{"text_format":"1","workbook":"xlsx","n_sheets":7,"sheets":["(はじめにお読み下さい)申請書の使い方","申請書","申請額一覧","別添","個票1","職員表","計算用"],"not_rendered":{"charts":0,"images":0,"macros":1,"external_links":0,"defined_names":7,"comments":5,"pivot_tables":0},"unopened":[],"bounds":{"document_bytes":16777216,"sheet_cells":100000,"rows_first":2000,"rows_last":500,"rows_between":2000,"halvings":0,"cell_chars":16384,"cell_head_chars":4096},"cells_cut":0,"cells_raw":0,"read":"whole","date_system":"1900"}

{"sheet":"(はじめにお読み下さい)申請書の使い方","index":0,"n_rows":19,"n_cols":4,"rows_kept":19,"cut":false,"hidden":false,"merged":[[1,0,1,3],[5,0,5,3],[3,0,4,3]]}
[]
["本変更承認申請書の使い方、変更承認申請の手順"]
[]
["各シートの着色されていないセル（白色のセル）には数式等が入っていますので入力不要です。\n誤って入力しないよう注意してください。\n（シート「申請額一覧」と「別添」は最終的に自動入力されます。何も入力しないでください。）\n（セルの保護がかかっているのは「申請書」と「個票」のみです。）"]
[]
["別紙様式１、別添、別紙様式２及び別紙様式３については、追加申請する事業所・サービス分、事業メニュー分のみ作成してください。(追加する金額・品目等のみ記載)\n様式第３号（申請書）については、既に交付決定を受けている額を「交付決定済額」に記載してください。\""]
["手順","都道府県の作業","事業者（法人本部）の作業","各事業所の作業"]
[1,"本Excelを管内の介護サービス事業者に配布"]
[{"$f":"A8+1","v":2},null,"本Excelを各事業所に配布し、以下の様式への記入を依頼\n・別紙様式２（個票）\n・別紙様式３（職員票）\n※Excelファイルを開封した際は、｢コンテンツの有効化｣をクリック"]
[3,null,null,"以下の作業を行った上で、事業者（法人本部）へ返送\n【別紙様式２（個票）】\n・水色セル：必要情報を入力\n・緑色セル：プルダウンから選択\n【別紙様式３（職員票）】\n・当該事業所の従事者から、慰労金代理申請・受領委任状を受領\n・当該委任状の提出のあった職員について、別紙様式３に取りまとめ(青色及び緑色のセルに入力)"]
[4,null,"各事業所の個票のシートを１つのExcelファイルに集約し、個票シート名を「個票●」（●は１からの通し番号）に修正"]
[5,null,"各事業所の別紙様式３（職員表）を法人単位で一覧表として取りまとめ\n兼務する複数の介護サービス事業所等から重複して申請している者がいないかを確認\n※氏名（漢字、カナ）、生年月日が一致する者がいる場合、「重複申請者確認用」欄に「可」と表示されません。\n※記入欄が不足する場合は、6行目～85行目を行ごとコピーし、86行目に右クリック→「コピーしたセルの挿入」で挿入。"]
[6,null,"別紙様式２（個票）の内容が、別添（サービス別一覧）に正しく反映されていることを確認\n※別添の記入欄が不足する場合は、6行目～20行目を行ごとコピーし、21行目に右クリック→「コピーしたセルの挿入」で挿入。"]
[7,null,"別紙様式１（申請額一覧）の「リスト作成」ボタンを押す。（事業所番号単位のリストが自動生成される）\n※この機能は100事業所分まで対応しています。"]
[8,null,"申請書に、申請者の法人所在地、法人名、代表者名、日付を入力し、提出先が静岡県知事であることを確認する"]
[9,null,"Excelファイル名を代表となる事業所の介護保険事業所番号に変更\n光ディスク等にExcelファイルを保存して提出する場合は、光ディスク等の盤面に所要の事項（※）を記載したラベルを貼付又はフェルトペン等で記入\n※盤面に記載する事項\n・新型コロナ支援交付金(介護分)申請書\n・代表となる事業所番号及び事業所名\n・申請年月日（申請書に記載した日付）\n・媒体枚数（　枚中　枚目）"]
[10,null,"完成したExcelファイルから申請書を出力し、静岡県に郵送（国保連経由申請の場合はExcelファイルを静岡県国民健康保険団体連合会に送付）\n郵送で提出する場合には、封筒に「新型コロナ支援交付金(介護分)変更承認申請書在中」と明記\n※他の書類（介護給付費等に関する費用等の請求等）を同封しないこと"]
[11,"事業者からExcelファイルを受領し、内容を審査\n※国保連経由申請分は、国保連を通じて静岡県に送付"]
[12,"静岡県で必要な作業を行い、事業者に交付金を交付\n※国保連経由申請の場合は、国保連による支払確定後、国保連から事業所（事業所台帳に登録された住所宛て）に対し、支払通知書を送付"]

{"sheet":"申請書","index":1,"n_rows":49,"n_cols":62,"rows_kept":49,"cut":false,"hidden":false,"merged":[[2,29,2,30],[2,32,2,33],[2,35,2,36],[4,0,4,6],[5,14,5,21],[5,22,5,36],[6,22,6,36],[7,22,7,36],[9,0,9,38],[11,1,11,2],[11,8,11,10],[11,11,11,12],[11,14,11,15],[11,17,11,18],[11,19,11,38],[16,1,16,9],[16,10,16,17],[17,1,17,9],[17,10,17,17],[18,1,18,9],[18,10,18,17],[22,2,22,22],[22,23,22,27],[23,2,23,22],[23,23,23,27],[23,47,23,48],[23,53,23,54],[23,59,23,60],[24,2,24,22],[24,23,24,27],[24,47,24,48],[24,53,24,54],[24,59,24,60],[25,2,25,22],[25,23,25,27],[43,29,43,32],[44,28,44,36],[45,20,45,26],[45,28,45,36],[46,20,46,26],[46,28,46,36],[47,24,47,27],[47,28,47,36],[48,24,48,27],[48,28,48,36],[35,2,38,37],[43,20,44,27],[47,20,48,22]]}
["様式第３号（用紙　日本産業規格Ａ４縦型）"]
[]
[null,null,null,null,null,null,null,null,null,null,null,null,null,null,null,null,null,null,null,null,null,null,null,null,null,null,null,null,"　　令和",null,null,"年",null,null,"月",null,null,"日"]
[]
["静岡県知事",null,null,null,null,null,null,null,"様"]
[null,null,null,null,null,null,null,null,null,null,null,null,null,null,"（所在地）"]
[null,null,null,null,null,null,null,null,null,null,null,null,null,null,"（法人名）"]
[null,null,null,null,null,null,null,null,null,null,null,null,null,null,"（役職・代表者名）",null,null,null,null,null,null,null,null,null,null,null,null,null,null,null,null,null,null,null,null,null,null,"印"]
[]
["変更計画承認申請書"]
[]
[null,"令和",null,null,"年",null,"月",null,"日付け",null,null,"福指",null,"第",null,null,"-",null,null,"号で交付金の交付の決定を受けた新型コロナ"]
["ウイルス感染症緊急包括支援交付金（介護分）の事業計画を次のとおり変更したいので、"]
["承認されるよう関係書類を添えて申請します。"]
[]
["１　変更の内容"]
[null,"　交付決定済額　　　：　",null,null,null,null,null,null,null,null,null,null,null,null,null,null,null,null,"千円"]
[null,"　追加交付申請額　　：　",null,null,null,null,null,null,null,null,{"$f":"SUM(申請額一覧!M5:M105)","v":0},null,null,null,null,null,null,null,"千円"]
[null,"　変更後交付申請額　：　",null,null,null,null,null,null,null,null,{"$f":"K17+K18","v":0},null,null,null,null,null,null,null,"千円",null,null,null,null,null,null,null,null,null,null,null,null,null,null,null,null,null,null,null,null,null,null,{"$f":"IF(K18=SUM(別添!$N$5:$N$29),\"○\",\"! 別添(事業所一覧)の合計額と一致しません\")","v":"○"}]
[]
[]
[null,"（追加交付申請額の内訳）",null,null,null,null,null,null,null,null,null,null,null,null,null,null,null,null,null,null,null,null,null,null,null,null,null,null,null,null,null,null,null,null,null,null,null,null,null,null,null,{"$f":"IF(BH24=BH25,\"○\",\"! 職員表の合計人数と個票の合計人数が一致しません\")","v":"○"}]
[null,null,"1．介護慰労金事業",null,null,null,null,null,null,null,null,null,null,null,null,null,null,null,null,null,null,null,null,{"$f":"SUM(申請額一覧!$H$5:$H$105)","v":0},null,null,null,null,"千円"]
[null,null,"2．感染症対策を徹底した上での介護サービス提供支援事業",null,null,null,null,null,null,null,null,null,null,null,null,null,null,null,null,null,null,null,null,{"$f":"SUM(申請額一覧!$J$5:$J$105)","v":0},null,null,null,null,"千円",null,null,null,null,null,null,null,null,null,null,null,null,"職員表計",null,null,"20万円",null,null,{"$f":"COUNTIFS(職員表!O6:O86,20)","v":0},null,"人","5万円",null,null,{"$f":"COUNTIFS(職員表!O6:O86,5)","v":0},null,"人","合計",null,null,{"$f":"SUM(AV24,BB24)","v":0},null,"人"]
[null,null,"3．在宅サービス事業所による利用者への再開支援への助成事業",null,null,null,null,null,null,null,null,null,null,null,null,null,null,null,null,null,null,null,null,{"$f":"SUM(申請額一覧!$K$5:$K$105)","v":0},null,null,null,null,"千円",null,null,null,null,null,null,null,null,null,null,null,null,"個表計",null,null,"20万円",null,null,{"$f":"SUM(別添!AM5:AM30)","v":0},null,"人","5万円",null,null,{"$f":"SUM(別添!AN5:AN30)","v":0},null,"人","合計",null,null,{"$f":"SUM(AV25,BB25)","v":0},null,"人"]
[null,null,"4．在宅サービス事業所における環境整備への助成事業",null,null,null,null,null,null,null,null,null,null,null,null,null,null,null,null,null,null,null,null,{"$f":"SUM(申請額一覧!$L$5:$L$105)","v":0},null,null,null,null,"千円"]
[]
[null,"（添付書類）"]
[null,"１　事業所・施設別申請額一覧（別紙様式１及び別添）"]
[null,"２　新型コロナウイルス感染症緊急包括支援交付金（介護分）に関する事業実施計画書"]
[null,null,null,"（事業所単位）（別紙様式２）"]
[null,"３　介護慰労金受給職員表（法人単位）（別紙様式３）"]
[]
[]
["２　変更計画の理由"]
[]
[]
[]
[]
[]
[]
[null,null,null,null,null,null,null,null,null,null,null,null,null,null,null,null,null,null,null,"【申請内容に関する連絡先】"]
[]
[null,null,null,null,null,null,null,null,null,null,null,null,null,null,null,null,null,null,null,null," 申請法人住所",null,null,null,null,null,null,null,"〒"]
[]
[null,null,null,null,null,null,null,null,null,null,null,null,null,null,null,null,null,null,null,null," 部署名"]
[null,null,null,null,null,null,null,null,null,null,null,null,null,null,null,null,null,null,null,null," 担当者氏名"]
[null,null,null,null,null,null,null,null,null,null,null,null,null,null,null,null,null,null,null,null," 連絡先",null,null,null,"電話番号"]
[null,null,null,null,null,null,null,null,null,null,null,null,null,null,null,null,null,null,null,null,null,null,null,null,"e-mail"]

{"sheet":"申請額一覧","index":2,"n_rows":104,"n_cols":14,"rows_kept":104,"cut":false,"hidden":false,"merged":[[2,7,2,12],[2,0,3,0],[2,1,3,1],[2,2,3,2],[2,3,3,3],[2,4,3,4],[2,5,3,5],[2,6,3,6],[2,13,3,13]]}
["（別紙様式１）事業所・施設別申請額一覧"]
[]
["No.","介護保険\n事業所番号","事業所・施設名","電話番号","郵便番号","住所","代表となる\n事業所・施設名","補助予定額（千円）",null,null,null,null,null,"審査\n結果"]
[null,null,null,null,null,null,null,"介護\n慰労金","20万円\n対象者の\n有無","感染対策\n費用助成\n事業","個別再開\n支援助成\n事業","再開環境\n整備助成\n事業","合計"]
[{"$f":"ROW()-4","v":1},0,{"$f":"IFERROR(VLOOKUP($B5,別添!$B$5:$G$29,2,FALSE),\"\")","v":0},{"$f":"IFERROR(VLOOKUP($B5,別添!$B$5:$G$29,4,FALSE),\"\")","v":0},{"$f":"IFERROR(VLOOKUP($B5,別添!$B$5:$G$29,5,FALSE),\"\")","v":0},{"$f":"IFERROR(VLOOKUP($B5,別添!$B$5:$G$29,6,FALSE),\"\")","v":""},{"$f":"IF(M5>0,申請書!$W$7,\"\")","v":""},{"$f":"SUMIFS(別添!I$5:I$29,別添!$B$5:$B$29,$B5)","v":0},{"$f":"IFERROR(IF(COUNTIFS(別添!$B$5:$B$29,B5,別添!$J$5:$J$29,\"有\")>0,\"有\",\"\"),\"\")","v":""},{"$f":"SUMIFS(別添!K$5:K$29,別添!$B$5:$B$29,$B5)","v":0},{"$f":"SUMIFS(別添!L$5:L$29,別添!$B$5:$B$29,$B5)","v":0},{"$f":"SUMIFS(別添!M$5:M$29,別添!$B$5:$B$29,$B5)","v":0},{"$f":"SUM(H5,J5,K5,L5)","v":0}]
[2,"",{"$f":"IFERROR(VLOOKUP($B6,別添!$B$5:$G$29,2,FALSE),\"\")","v":""},{"$f":"IFERROR(VLOOKUP($B6,別添!$B$5:$G$29,4,FALSE),\"\")","v":""},{"$f":"IFERROR(VLOOKUP($B6,別添!$B$5:$G$29,5,FALSE),\"\")","v":""},{"$f":"IFERROR(VLOOKUP($B6,別添!$B$5:$G$29,6,FALSE),\"\")","v":""},{"$f":"IF(M6>0,申請書!$W$7,\"\")","v":""},{"$f":"SUMIFS(別添!I$5:I$29,別添!$B$5:$B$29,$B6)","v":0},{"$f":"IFERROR(IF(COUNTIFS(別添!$B$5:$B$29,B6,別添!$J$5:$J$29,\"有\")>0,\"有\",\"\"),\"\")","v":""},{"$f":"SUMIFS(別添!K$5:K$29,別添!$B$5:$B$29,$B6)","v":0},{"$f":"SUMIFS(別添!L$5:L$29,別添!$B$5:$B$29,$B6)","v":0},{"$f":"SUMIFS(別添!M$5:M$29,別添!$B$5:$B$29,$B6)","v":0},0]
[3,null,{"$f":"IFERROR(VLOOKUP($B7,別添!$B$5:$G$29,2,FALSE),\"\")","v":0},{"$f":"IFERROR(VLOOKUP($B7,別添!$B$5:$G$29,4,FALSE),\"\")","v":0},{"$f":"IFERROR(VLOOKUP($B7,別添!$B$5:$G$29,5,FALSE),\"\")","v":0},{"$f":"IFERROR(VLOOKUP($B7,別添!$B$5:$G$29,6,FALSE),\"\")","v":""},{"$f":"IF(M7>0,申請書!$W$7,\"\")","v":""},{"$f":"SUMIFS(別添!I$5:I$29,別添!$B$5:$B$29,$B7)","v":0},{"$f":"IFERROR(IF(COUNTIFS(別添!$B$5:$B$29,B7,別添!$J$5:$J$29,\"有\")>0,\"有\",\"\"),\"\")","v":""},{"$f":"SUMIFS(別添!K$5:K$29,別添!$B$5:$B$29,$B7)","v":0},{"$f":"SUMIFS(別添!L$5:L$29,別添!$B$5:$B$29,$B7)","v":0},{"$f":"SUMIFS(別添!M$5:M$29,別添!$B$5:$B$29,$B7)","v":0},0]
[4,null,{"$f":"IFERROR(VLOOKUP($B8,別添!$B$5:$G$29,2,FALSE),\"\")","v":0},{"$f":"IFERROR(VLOOKUP($B8,別添!$B$5:$G$29,4,FALSE),\"\")","v":0},{"$f":"IFERROR(VLOOKUP($B8,別添!$B$5:$G$29,5,FALSE),\"\")","v":0},{"$f":"IFERROR(VLOOKUP($B8,別添!$B$5:$G$29,6,FALSE),\"\")","v":""},{"$f":"IF(M8>0,申請書!$W$7,\"\")","v":""},{"$f":"SUMIFS(別添!I$5:I$29,別添!$B$5:$B$29,$B8)","v":0},{"$f":"IFERROR(IF(COUNTIFS(別添!$B$5:$B$29,B8,別添!$J$5:$J$29,\"有\")>0,\"有\",\"\"),\"\")","v":""},{"$f":"SUMIFS(別添!K$5:K$29,別添!$B$5:$B$29,$B8)","v":0},{"$f":"SUMIFS(別添!L$5:L$29,別添!$B$5:$B$29,$B8)","v":0},{"$f":"SUMIFS(別添!M$5:M$29,別添!$B$5:$B$29,$B8)","v":0},0]
[5,null,{"$f":"IFERROR(VLOOKUP($B9,別添!$B$5:$G$29,2,FALSE),\"\")","v":0},{"$f":"IFERROR(VLOOKUP($B9,別添!$B$5:$G$29,4,FALSE),\"\")","v":0},{"$f":"IFERROR(VLOOKUP($B9,別添!$B$5:$G$29,5,FALSE),\"\")","v":0},{"$f":"IFERROR(VLOOKUP($B9,別添!$B$5:$G$29,6,FALSE),\"\")","v":""},{"$f":"IF(M9>0,申請書!$W$7,\"\")","v":""},{"$f":"SUMIFS(別添!I$5:I$29,別添!$B$5:$B$29,$B9)","v":0},{"$f":"IFERROR(IF(COUNTIFS(別添!$B$5:$B$29,B9,別添!$J$5:$J$29,\"有\")>0,\"有\",\"\"),\"\")","v":""},{"$f":"SUMIFS(別添!K$5:K$29,別添!$B$5:$B$29,$B9)","v":0},{"$f":"SUMIFS(別添!L$5:L$29,別添!$B$5:$B$29,$B9)","v":0},{"$f":"SUMIFS(別添!M$5:M$29,別添!$B$5:$B$29,$B9)","v":0},0]
[6,null,{"$f":"IFERROR(VLOOKUP($B10,別添!$B$5:$G$29,2,FALSE),\"\")","v":0},{"$f":"IFERROR(VLOOKUP($B10,別添!$B$5:$G$29,4,FALSE),\"\")","v":0},{"$f":"IFERROR(VLOOKUP($B10,別添!$B$5:$G$29,5,FALSE),\"\")","v":0},{"$f":"IFERROR(VLOOKUP($B10,別添!$B$5:$G$29,6,FALSE),\"\")","v":""},{"$f":"IF(M10>0,申請書!$W$7,\"\")","v":""},{"$f":"SUMIFS(別添!I$5:I$29,別添!$B$5:$B$29,$B10)","v":0},{"$f":"IFERROR(IF(COUNTIFS(別添!$B$5:$B$29,B10,別添!$J$5:$J$29,\"有\")>0,\"有\",\"\"),\"\")","v":""},{"$f":"SUMIFS(別添!K$5:K$29,別添!$B$5:$B$29,$B10)","v":0},{"$f":"SUMIFS(別添!L$5:L$29,別添!$B$5:$B$29,$B10)","v":0},{"$f":"SUMIFS(別添!M$5:M$29,別添!$B$5:$B$29,$B10)","v":0},0]
[7,null,{"$f":"IFERROR(VLOOKUP($B11,別添!$B$5:$G$29,2,FALSE),\"\")","v":0},{"$f":"IFERROR(VLOOKUP($B11,別添!$B$5:$G$29,4,FALSE),\"\")","v":0},{"$f":"IFERROR(VLOOKUP($B11,別添!$B$5:$G$29,5,FALSE),\"\")","v":0},{"$f":"IFERROR(VLOOKUP($B11,別添!$B$5:$G$29,6,FALSE),\"\")","v":""},{"$f":"IF(M11>0,申請書!$W$7,\"\")","v":""},{"$f":"SUMIFS(別添!I$5:I$29,別添!$B$5:$B$29,$B11)","v":0},{"$f":"IFERROR(IF(COUNTIFS(別添!$B$5:$B$29,B11,別添!$J$5:$J$29,\"有\")>0,\"有\",\"\"),\"\")","v":""},{"$f":"SUMIFS(別添!K$5:K$29,別添!$B$5:$B$29,$B11)","v":0},{"$f":"SUMIFS(別添!L$5:L$29,別添!$B$5:$B$29,$B11)","v":0},{"$f":"SUMIFS(別添!M$5:M$29,別添!$B$5:$B$29,$B11)","v":0},0]
[8,null,{"$f":"IFERROR(VLOOKUP($B12,別添!$B$5:$G$29,2,FALSE),\"\")","v":0},{"$f":"IFERROR(VLOOKUP($B12,別添!$B$5:$G$29,4,FALSE),\"\")","v":0},{"$f":"IFERROR(VLOOKUP($B12,別添!$B$5:$G$29,5,FALSE),\"\")","v":0},{"$f":"IFERROR(VLOOKUP($B12,別添!$B$5:$G$29,6,FALSE),\"\")","v":""},{"$f":"IF(M12>0,申請書!$W$7,\"\")","v":""},{"$f":"SUMIFS(別添!I$5:I$29,別添!$B$5:$B$29,$B12)","v":0},{"$f":"IFERROR(IF(COUNTIFS(別添!$B$5:$B$29,B12,別添!$J$5:$J$29,\"有\")>0,\"有\",\"\"),\"\")","v":""},{"$f":"SUMIFS(別添!K$5:K$29,別添!$B$5:$B$29,$B12)","v":0},{"$f":"SUMIFS(別添!L$5:L$29,別添!$B$5:$B$29,$B12)","v":0},{"$f":"SUMIFS(別添!M$5:M$29,別添!$B$5:$B$29,$B12)","v":0},0]
[9,null,{"$f":"IFERROR(VLOOKUP($B13,別添!$B$5:$G$29,2,FALSE),\"\")","v":0},{"$f":"IFERROR(VLOOKUP($B13,別添!$B$5:$G$29,4,FALSE),\"\")","v":0},{"$f":"IFERROR(VLOOKUP($B13,別添!$B$5:$G$29,5,FALSE),\"\")","v":0},{"$f":"IFERROR(VLOOKUP($B13,別添!$B$5:$G$29,6,FALSE),\"\")","v":""},{"$f":"IF(M13>0,申請書!$W$7,\"\")","v":""},{"$f":"SUMIFS(別添!I$5:I$29,別添!$B$5:$B$29,$B13)","v":0},{"$f":"IFERROR(IF(COUNTIFS(別添!$B$5:$B$29,B13,別添!$J$5:$J$29,\"有\")>0,\"有\",\"\"),\"\")","v":""},{"$f":"SUMIFS(別添!K$5:K$29,別添!$B$5:$B$29,$B13)","v":0},{"$f":"SUMIFS(別添!L$5:L$29,別添!$B$5:$B$29,$B13)","v":0},{"$f":"SUMIFS(別添!M$5:M$29,別添!$B$5:$B$29,$B13)","v":0},0]
[10,null,{"$f":"IFERROR(VLOOKUP($B14,別添!$B$5:$G$29,2,FALSE),\"\")","v":0},{"$f":"IFERROR(VLOOKUP($B14,別添!$B$5:$G$29,4,FALSE),\"\")","v":0},{"$f":"IFERROR(VLOOKUP($B14,別添!$B$5:$G$29,5,FALSE),\"\")","v":0},{"$f":"IFERROR(VLOOKUP($B14,別添!$B$5:$G$29,6,FALSE),\"\")","v":""},{"$f":"IF(M14>0,申請書!$W$7,\"\")","v":""},{"$f":"SUMIFS(別添!I$5:I$29,別添!$B$5:$B$29,$B14)","v":0},{"$f":"IFERROR(IF(COUNTIFS(別添!$B$5:$B$29,B14,別添!$J$5:$J$29,\"有\")>0,\"有\",\"\"),\"\")","v":""},{"$f":"SUMIFS(別添!K$5:K$29,別添!$B$5:$B$29,$B14)","v":0},{"$f":"SUMIFS(別添!L$5:L$29,別添!$B$5:$B$29,$B14)","v":0},{"$f":"SUMIFS(別添!M$5:M$29,別添!$B$5:$B$29,$B14)","v":0},0]
[11,null,{"$f":"IFERROR(VLOOKUP($B15,別添!$B$5:$G$29,2,FALSE),\"\")","v":0},{"$f":"IFERROR(VLOOKUP($B15,別添!$B$5:$G$29,4,FALSE),\"\")","v":0},{"$f":"IFERROR(VLOOKUP($B15,別添!$B$5:$G$29,5,FALSE),\"\")","v":0},{"$f":"IFERROR(VLOOKUP($B15,別添!$B$5:$G$29,6,FALSE),\"\")","v":""},{"$f":"IF(M15>0,申請書!$W$7,\"\")","v":""},{"$f":"SUMIFS(別添!I$5:I$29,別添!$B$5:$B$29,$B15)","v":0},{"$f":"IFERROR(IF(COUNTIFS(別添!$B$5:$B$29,B15,別添!$J$5:$J$29,\"有\")>0,\"有\",\"\"),\"\")","v":""},{"$f":"SUMIFS(別添!K$5:K$29,別添!$B$5:$B$29,$B15)","v":0},{"$f":"SUMIFS(別添!L$5:L$29,別添!$B$5:$B$29,$B15)","v":0},{"$f":"SUMIFS(別添!M$5:M$29,別添!$B$5:$B$29,$B15)","v":0},0]
[12,null,{"$f":"IFERROR(VLOOKUP($B16,別添!$B$5:$G$29,2,FALSE),\"\")","v":0},{"$f":"IFERROR(VLOOKUP($B16,別添!$B$5:$G$29,4,FALSE),\"\")","v":0},{"$f":"IFERROR(VLOOKUP($B16,別添!$B$5:$G$29,5,FALSE),\"\")","v":0},{"$f":"IFERROR(VLOOKUP($B16,別添!$B$5:$G$29,6,FALSE),\"\")","v":""},{"$f":"IF(M16>0,申請書!$W$7,\"\")","v":""},{"$f":"SUMIFS(別添!I$5:I$29,別添!$B$5:$B$29,$B16)","v":0},{"$f":"IFERROR(IF(COUNTIFS(別添!$B$5:$B$29,B16,別添!$J$5:$J$29,\"有\")>0,\"有\",\"\"),\"\")","v":""},{"$f":"SUMIFS(別添!K$5:K$29,別添!$B$5:$B$29,$B16)","v":0},{"$f":"SUMIFS(別添!L$5:L$29,別添!$B$5:$B$29,$B16)","v":0},{"$f":"SUMIFS(別添!M$5:M$29,別添!$B$5:$B$29,$B16)","v":0},0]
[13,null,{"$f":"IFERROR(VLOOKUP($B17,別添!$B$5:$G$29,2,FALSE),\"\")","v":0},{"$f":"IFERROR(VLOOKUP($B17,別添!$B$5:$G$29,4,FALSE),\"\")","v":0},{"$f":"IFERROR(VLOOKUP($B17,別添!$B$5:$G$29,5,FALSE),\"\")","v":0},{"$f":"IFERROR(VLOOKUP($B17,別添!$B$5:$G$29,6,FALSE),\"\")","v":""},{"$f":"IF(M17>0,申請書!$W$7,\"\")","v":""},{"$f":"SUMIFS(別添!I$5:I$29,別添!$B$5:$B$29,$B17)","v":0},{"$f":"IFERROR(IF(COUNTIFS(別添!$B$5:$B$29,B17,別添!$J$5:$J$29,\"有\")>0,\"有\",\"\"),\"\")","v":""},{"$f":"SUMIFS(別添!K$5:K$29,別添!$B$5:$B$29,$B17)","v":0},{"$f":"SUMIFS(別添!L$5:L$29,別添!$B$5:$B$29,$B17)","v":0},{"$f":"SUMIFS(別添!M$5:M$29,別添!$B$5:$B$29,$B17)","v":0},0]
[14,null,{"$f":"IFERROR(VLOOKUP($B18,別添!$B$5:$G$29,2,FALSE),\"\")","v":0},{"$f":"IFERROR(VLOOKUP($B18,別添!$B$5:$G$29,4,FALSE),\"\")","v":0},{"$f":"IFERROR(VLOOKUP($B18,別添!$B$5:$G$29,5,FALSE),\"\")","v":0},{"$f":"IFERROR(VLOOKUP($B18,別添!$B$5:$G$29,6,FALSE),\"\")","v":""},{"$f":"IF(M18>0,申請書!$W$7,\"\")","v":""},{"$f":"SUMIFS(別添!I$5:I$29,別添!$B$5:$B$29,$B18)","v":0},{"$f":"IFERROR(IF(COUNTIFS(別添!$B$5:$B$29,B18,別添!$J$5:$J$29,\"有\")>0,\"有\",\"\"),\"\")","v":""},{"$f":"SUMIFS(別添!K$5:K$29,別添!$B$5:$B$29,$B18)","v":0},{"$f":"SUMIFS(別添!L$5:L$29,別添!$B$5:$B$29,$B18)","v":0},{"$f":"SUMIFS(別添!M$5:M$29,別添!$B$5:$B$29,$B18)","v":0},0]
[15,null,{"$f":"IFERROR(VLOOKUP($B19,別添!$B$5:$G$29,2,FALSE),\"\")","v":0},{"$f":"IFERROR(VLOOKUP($B19,別添!$B$5:$G$29,4,FALSE),\"\")","v":0},{"$f":"IFERROR(VLOOKUP($B19,別添!$B$5:$G$29,5,FALSE),\"\")","v":0},{"$f":"IFERROR(VLOOKUP($B19,別添!$B$5:$G$29,6,FALSE),\"\")","v":""},{"$f":"IF(M19>0,申請書!$W$7,\"\")","v":""},{"$f":"SUMIFS(別添!I$5:I$29,別添!$B$5:$B$29,$B19)","v":0},{"$f":"IFERROR(IF(COUNTIFS(別添!$B$5:$B$29,B19,別添!$J$5:$J$29,\"有\")>0,\"有\",\"\"),\"\")","v":""},{"$f":"SUMIFS(別添!K$5:K$29,別添!$B$5:$B$29,$B19)","v":0},{"$f":"SUMIFS(別添!L$5:L$29,別添!$B$5:$B$29,$B19)","v":0},{"$f":"SUMIFS(別添!M$5:M$29,別添!$B$5:$B$29,$B19)","v":0},0]
[16,null,{"$f":"IFERROR(VLOOKUP($B20,別添!$B$5:$G$29,2,FALSE),\"\")","v":0},{"$f":"IFERROR(VLOOKUP($B20,別添!$B$5:$G$29,4,FALSE),\"\")","v":0},{"$f":"IFERROR(VLOOKUP($B20,別添!$B$5:$G$29,5,FALSE),\"\")","v":0},{"$f":"IFERROR(VLOOKUP($B20,別添!$B$5:$G$29,6,FALSE),\"\")","v":""},{"$f":"IF(M20>0,申請書!$W$7,\"\")","v":""},{"$f":"SUMIFS(別添!I$5:I$29,別添!$B$5:$B$29,$B20)","v":0},{"$f":"IFERROR(IF(COUNTIFS(別添!$B$5:$B$29,B20,別添!$J$5:$J$29,\"有\")>0,\"有\",\"\"),\"\")","v":""},{"$f":"SUMIFS(別添!K$5:K$29,別添!$B$5:$B$29,$B20)","v":0},{"$f":"SUMIFS(別添!L$5:L$29,別添!$B$5:$B$29,$B20)","v":0},{"$f":"SUMIFS(別添!M$5:M$29,別添!$B$5:$B$29,$B20)","v":0},0]
[17,null,{"$f":"IFERROR(VLOOKUP($B21,別添!$B$5:$G$29,2,FALSE),\"\")","v":0},{"$f":"IFERROR(VLOOKUP($B21,別添!$B$5:$G$29,4,FALSE),\"\")","v":0},{"$f":"IFERROR(VLOOKUP($B21,別添!$B$5:$G$29,5,FALSE),\"\")","v":0},{"$f":"IFERROR(VLOOKUP($B21,別添!$B$5:$G$29,6,FALSE),\"\")","v":""},{"$f":"IF(M21>0,申請書!$W$7,\"\")","v":""},{"$f":"SUMIFS(別添!I$5:I$29,別添!$B$5:$B$29,$B21)","v":0},{"$f":"IFERROR(IF(COUNTIFS(別添!$B$5:$B$29,B21,別添!$J$5:$J$29,\"有\")>0,\"有\",\"\"),\"\")","v":""},{"$f":"SUMIFS(別添!K$5:K$29,別添!$B$5:$B$29,$B21)","v":0},{"$f":"SUMIFS(別添!L$5:L$29,別添!$B$5:$B$29,$B21)","v":0},{"$f":"SUMIFS(別添!M$5:M$29,別添!$B$5:$B$29,$B21)","v":0},0]
[18,null,{"$f":"IFERROR(VLOOKUP($B22,別添!$B$5:$G$29,2,FALSE),\"\")","v":0},{"$f":"IFERROR(VLOOKUP($B22,別添!$B$5:$G$29,4,FALSE),\"\")","v":0},{"$f":"IFERROR(VLOOKUP($B22,別添!$B$5:$G$29,5,FALSE),\"\")","v":0},{"$f":"IFERROR(VLOOKUP($B22,別添!$B$5:$G$29,6,FALSE),\"\")","v":""},{"$f":"IF(M22>0,申請書!$W$7,\"\")","v":""},{"$f":"SUMIFS(別添!I$5:I$29,別添!$B$5:$B$29,$B22)","v":0},{"$f":"IFERROR(IF(COUNTIFS(別添!$B$5:$B$29,B22,別添!$J$5:$J$29,\"有\")>0,\"有\",\"\"),\"\")","v":""},{"$f":"SUMIFS(別添!K$5:K$29,別添!$B$5:$B$29,$B22)","v":0},{"$f":"SUMIFS(別添!L$5:L$29,別添!$B$5:$B$29,$B22)","v":0},{"$f":"SUMIFS(別添!M$5:M$29,別添!$B$5:$B$29,$B22)","v":0},0]
[19,null,{"$f":"IFERROR(VLOOKUP($B23,別添!$B$5:$G$29,2,FALSE),\"\")","v":0},{"$f":"IFERROR(VLOOKUP($B23,別添!$B$5:$G$29,4,FALSE),\"\")","v":0},{"$f":"IFERROR(VLOOKUP($B23,別添!$B$5:$G$29,5,FALSE),\"\")","v":0},{"$f":"IFERROR(VLOOKUP($B23,別添!$B$5:$G$29,6,FALSE),\"\")","v":""},{"$f":"IF(M23>0,申請書!$W$7,\"\")","v":""},{"$f":"SUMIFS(別添!I$5:I$29,別添!$B$5:$B$29,$B23)","v":0},{"$f":"IFERROR(IF(COUNTIFS(別添!$B$5:$B$29,B23,別添!$J$5:$J$29,\"有\")>0,\"有\",\"\"),\"\")","v":""},{"$f":"SUMIFS(別添!K$5:K$29,別添!$B$5:$B$29,$B23)","v":0},{"$f":"SUMIFS(別添!L$5:L$29,別添!$B$5:$B$29,$B23)","v":0},{"$f":"SUMIFS(別添!M$5:M$29,別添!$B$5:$B$29,$B23)","v":0},0]
[20,null,{"$f":"IFERROR(VLOOKUP($B24,別添!$B$5:$G$29,2,FALSE),\"\")","v":0},{"$f":"IFERROR(VLOOKUP($B24,別添!$B$5:$G$29,4,FALSE),\"\")","v":0},{"$f":"IFERROR(VLOOKUP($B24,別添!$B$5:$G$29,5,FALSE),\"\")","v":0},{"$f":"IFERROR(VLOOKUP($B24,別添!$B$5:$G$29,6,FALSE),\"\")","v":""},{"$f":"IF(M24>0,申請書!$W$7,\"\")","v":""},{"$f":"SUMIFS(別添!I$5:I$29,別添!$B$5:$B$29,$B24)","v":0},{"$f":"IFERROR(IF(COUNTIFS(別添!$B$5:$B$29,B24,別添!$J$5:$J$29,\"有\")>0,\"有\",\"\"),\"\")","v":""},{"$f":"SUMIFS(別添!K$5:K$29,別添!$B$5:$B$29,$B24)","v":0},{"$f":"SUMIFS(別添!L$5:L$29,別添!$B$5:$B$29,$B24)","v":0},{"$f":"SUMIFS(別添!M$5:M$29,別添!$B$5:$B$29,$B24)","v":0},0]
[21,null,{"$f":"IFERROR(VLOOKUP($B25,別添!$B$5:$G$29,2,FALSE),\"\")","v":0},{"$f":"IFERROR(VLOOKUP($B25,別添!$B$5:$G$29,4,FALSE),\"\")","v":0},{"$f":"IFERROR(VLOOKUP($B25,別添!$B$5:$G$29,5,FALSE),\"\")","v":0},{"$f":"IFERROR(VLOOKUP($B25,別添!$B$5:$G$29,6,FALSE),\"\")","v":""},{"$f":"IF(M25>0,申請書!$W$7,\"\")","v":""},{"$f":"SUMIFS(別添!I$5:I$29,別添!$B$5:$B$29,$B25)","v":0},{"$f":"IFERROR(IF(COUNTIFS(別添!$B$5:$B$29,B25,別添!$J$5:$J$29,\"有\")>0,\"有\",\"\"),\"\")","v":""},{"$f":"SUMIFS(別添!K$5:K$29,別添!$B$5:$B$29,$B25)","v":0},{"$f":"SUMIFS(別添!L$5:L$29,別添!$B$5:$B$29,$B25)","v":0},{"$f":"SUMIFS(別添!M$5:M$29,別添!$B$5:$B$29,$B25)","v":0},0]
[22,null,{"$f":"IFERROR(VLOOKUP($B26,別添!$B$5:$G$29,2,FALSE),\"\")","v":0},{"$f":"IFERROR(VLOOKUP($B26,別添!$B$5:$G$29,4,FALSE),\"\")","v":0},{"$f":"IFERROR(VLOOKUP($B26,別添!$B$5:$G$29,5,FALSE),\"\")","v":0},{"$f":"IFERROR(VLOOKUP($B26,別添!$B$5:$G$29,6,FALSE),\"\")","v":""},{"$f":"IF(M26>0,申請書!$W$7,\"\")","v":""},{"$f":"SUMIFS(別添!I$5:I$29,別添!$B$5:$B$29,$B26)","v":0},{"$f":"IFERROR(IF(COUNTIFS(別添!$B$5:$B$29,B26,別添!$J$5:$J$29,\"有\")>0,\"有\",\"\"),\"\")","v":""},{"$f":"SUMIFS(別添!K$5:K$29,別添!$B$5:$B$29,$B26)","v":0},{"$f":"SUMIFS(別添!L$5:L$29,別添!$B$5:$B$29,$B26)","v":0},{"$f":"SUMIFS(別添!M$5:M$29,別添!$B$5:$B$29,$B26)","v":0},0]
[23,null,{"$f":"IFERROR(VLOOKUP($B27,別添!$B$5:$G$29,2,FALSE),\"\")","v":0},{"$f":"IFERROR(VLOOKUP($B27,別添!$B$5:$G$29,4,FALSE),\"\")","v":0},{"$f":"IFERROR(VLOOKUP($B27,別添!$B$5:$G$29,5,FALSE),\"\")","v":0},{"$f":"IFERROR(VLOOKUP($B27,別添!$B$5:$G$29,6,FALSE),\"\")","v":""},{"$f":"IF(M27>0,申請書!$W$7,\"\")","v":""},{"$f":"SUMIFS(別添!I$5:I$29,別添!$B$5:$B$29,$B27)","v":0},{"$f":"IFERROR(IF(COUNTIFS(別添!$B$5:$B$29,B27,別添!$J$5:$J$29,\"有\")>0,\"有\",\"\"),\"\")","v":""},{"$f":"SUMIFS(別添!K$5:K$29,別添!$B$5:$B$29,$B27)","v":0},{"$f":"SUMIFS(別添!L$5:L$29,別添!$B$5:$B$29,$B27)","v":0},{"$f":"SUMIFS(別添!M$5:M$29,別添!$B$5:$B$29,$B27)","v":0},0]
[24,null,{"$f":"IFERROR(VLOOKUP($B28,別添!$B$5:$G$29,2,FALSE),\"\")","v":0},{"$f":"IFERROR(VLOOKUP($B28,別添!$B$5:$G$29,4,FALSE),\"\")","v":0},{"$f":"IFERROR(VLOOKUP($B28,別添!$B$5:$G$29,5,FALSE),\"\")","v":0},{"$f":"IFERROR(VLOOKUP($B28,別添!$B$5:$G$29,6,FALSE),\"\")","v":""},{"$f":"IF(M28>0,申請書!$W$7,\"\")","v":""},{"$f":"SUMIFS(別添!I$5:I$29,別添!$B$5:$B$29,$B28)","v":0},{"$f":"IFERROR(IF(COUNTIFS(別添!$B$5:$B$29,B28,別添!$J$5:$J$29,\"有\")>0,\"有\",\"\"),\"\")","v":""},{"$f":"SUMIFS(別添!K$5:K$29,別添!$B$5:$B$29,$B28)","v":0},{"$f":"SUMIFS(別添!L$5:L$29,別添!$B$5:$B$29,$B28)","v":0},{"$f":"SUMIFS(別添!M$5:M$29,別添!$B$5:$B$29,$B28)","v":0},0]
[25,null,{"$f":"IFERROR(VLOOKUP($B29,別添!$B$5:$G$29,2,FALSE),\"\")","v":0},{"$f":"IFERROR(VLOOKUP($B29,別添!$B$5:$G$29,4,FALSE),\"\")","v":0},{"$f":"IFERROR(VLOOKUP($B29,別添!$B$5:$G$29,5,FALSE),\"\")","v":0},{"$f":"IFERROR(VLOOKUP($B29,別添!$B$5:$G$29,6,FALSE),\"\")","v":""},{"$f":"IF(M29>0,申請書!$W$7,\"\")","v":""},{"$f":"SUMIFS(別添!I$5:I$29,別添!$B$5:$B$29,$B29)","v":0},{"$f":"IFERROR(IF(COUNTIFS(別添!$B$5:$B$29,B29,別添!$J$5:$J$29,\"有\")>0,\"有\",\"\"),\"\")","v":""},{"$f":"SUMIFS(別添!K$5:K$29,別添!$B$5:$B$29,$B29)","v":0},{"$f":"SUMIFS(別添!L$5:L$29,別添!$B$5:$B$29,$B29)","v":0},{"$f":"SUMIFS(別添!M$5:M$29,別添!$B$5:$B$29,$B29)","v":0},0]
[26,null,{"$f":"IFERROR(VLOOKUP($B30,別添!$B$5:$G$29,2,FALSE),\"\")","v":0},{"$f":"IFERROR(VLOOKUP($B30,別添!$B$5:$G$29,4,FALSE),\"\")","v":0},{"$f":"IFERROR(VLOOKUP($B30,別添!$B$5:$G$29,5,FALSE),\"\")","v":0},{"$f":"IFERROR(VLOOKUP($B30,別添!$B$5:$G$29,6,FALSE),\"\")","v":""},{"$f":"IF(M30>0,申請書!$W$7,\"\")","v":""},{"$f":"SUMIFS(別添!I$5:I$29,別添!$B$5:$B$29,$B30)","v":0},{"$f":"IFERROR(IF(COUNTIFS(別添!$B$5:$B$29,B30,別添!$J$5:$J$29,\"有\")>0,\"有\",\"\"),\"\")","v":""},{"$f":"SUMIFS(別添!K$5:K$29,別添!$B$5:$B$29,$B30)","v":0},{"$f":"SUMIFS(別添!L$5:L$29,別添!$B$5:$B$29,$B30)","v":0},{"$f":"SUMIFS(別添!M$5:M$29,別添!$B$5:$B$29,$B30)","v":0},0]
[27,null,{"$f":"IFERROR(VLOOKUP($B31,別添!$B$5:$G$29,2,FALSE),\"\")","v":0},{"$f":"IFERROR(VLOOKUP($B31,別添!$B$5:$G$29,4,FALSE),\"\")","v":0},{"$f":"IFERROR(VLOOKUP($B31,別添!$B$5:$G$29,5,FALSE),\"\")","v":0},{"$f":"IFERROR(VLOOKUP($B31,別添!$B$5:$G$29,6,FALSE),\"\")","v":""},{"$f":"IF(M31>0,申請書!$W$7,\"\")","v":""},{"$f":"SUMIFS(別添!I$5:I$29,別添!$B$5:$B$29,$B31)","v":0},{"$f":"IFERROR(IF(COUNTIFS(別添!$B$5:$B$29,B31,別添!$J$5:$J$29,\"有\")>0,\"有\",\"\"),\"\")","v":""},{"$f":"SUMIFS(別添!K$5:K$29,別添!$B$5:$B$29,$B31)","v":0},{"$f":"SUMIFS(別添!L$5:L$29,別添!$B$5:$B$29,$B31)","v":0},{"$f":"SUMIFS(別添!M$5:M$29,別添!$B$5:$B$29,$B31)","v":0},0]
[28,null,{"$f":"IFERROR(VLOOKUP($B32,別添!$B$5:$G$29,2,FALSE),\"\")","v":0},{"$f":"IFERROR(VLOOKUP($B32,別添!$B$5:$G$29,4,FALSE),\"\")","v":0},{"$f":"IFERROR(VLOOKUP($B32,別添!$B$5:$G$29,5,FALSE),\"\")","v":0},{"$f":"IFERROR(VLOOKUP($B32,別添!$B$5:$G$29,6,FALSE),\"\")","v":""},{"$f":"IF(M32>0,申請書!$W$7,\"\")","v":""},{"$f":"SUMIFS(別添!I$5:I$29,別添!$B$5:$B$29,$B32)","v":0},{"$f":"IFERROR(IF(COUNTIFS(別添!$B$5:$B$29,B32,別添!$J$5:$J$29,\"有\")>0,\"有\",\"\"),\"\")","v":""},{"$f":"SUMIFS(別添!K$5:K$29,別添!$B$5:$B$29,$B32)","v":0},{"$f":"SUMIFS(別添!L$5:L$29,別添!$B$5:$B$29,$B32)","v":0},{"$f":"SUMIFS(別添!M$5:M$29,別添!$B$5:$B$29,$B32)","v":0},0]
[29,null,{"$f":"IFERROR(VLOOKUP($B33,別添!$B$5:$G$29,2,FALSE),\"\")","v":0},{"$f":"IFERROR(VLOOKUP($B33,別添!$B$5:$G$29,4,FALSE),\"\")","v":0},{"$f":"IFERROR(VLOOKUP($B33,別添!$B$5:$G$29,5,FALSE),\"\")","v":0},{"$f":"IFERROR(VLOOKUP($B33,別添!$B$5:$G$29,6,FALSE),\"\")","v":""},{"$f":"IF(M33>0,申請書!$W$7,\"\")","v":""},{"$f":"SUMIFS(別添!I$5:I$29,別添!$B$5:$B$29,$B33)","v":0},{"$f":"IFERROR(IF(COUNTIFS(別添!$B$5:$B$29,B33,別添!$J$5:$J$29,\"有\")>0,\"有\",\"\"),\"\")","v":""},{"$f":"SUMIFS(別添!K$5:K$29,別添!$B$5:$B$29,$B33)","v":0},{"$f":"SUMIFS(別添!L$5:L$29,別添!$B$5:$B$29,$B33)","v":0},{"$f":"SUMIFS(別添!M$5:M$29,別添!$B$5:$B$29,$B33)","v":0},0]
[30,null,{"$f":"IFERROR(VLOOKUP($B34,別添!$B$5:$G$29,2,FALSE),\"\")","v":0},{"$f":"IFERROR(VLOOKUP($B34,別添!$B$5:$G$29,4,FALSE),\"\")","v":0},{"$f":"IFERROR(VLOOKUP($B34,別添!$B$5:$G$29,5,FALSE),\"\")","v":0},{"$f":"IFERROR(VLOOKUP($B34,別添!$B$5:$G$29,6,FALSE),\"\")","v":""},{"$f":"IF(M34>0,申請書!$W$7,\"\")","v":""},{"$f":"SUMIFS(別添!I$5:I$29,別添!$B$5:$B$29,$B34)","v":0},{"$f":"IFERROR(IF(COUNTIFS(別添!$B$5:$B$29,B34,別添!$J$5:$J$29,\"有\")>0,\"有\",\"\"),\"\")","v":""},{"$f":"SUMIFS(別添!K$5:K$29,別添!$B$5:$B$29,$B34)","v":0},{"$f":"SUMIFS(別添!L$5:L$29,別添!$B$5:$B$29,$B34)","v":0},{"$f":"SUMIFS(別添!M$5:M$29,別添!$B$5:$B$29,$B34)","v":0},0]
[31,null,{"$f":"IFERROR(VLOOKUP($B35,別添!$B$5:$G$29,2,FALSE),\"\")","v":0},{"$f":"IFERROR(VLOOKUP($B35,別添!$B$5:$G$29,4,FALSE),\"\")","v":0},{"$f":"IFERROR(VLOOKUP($B35,別添!$B$5:$G$29,5,FALSE),\"\")","v":0},{"$f":"IFERROR(VLOOKUP($B35,別添!$B$5:$G$29,6,FALSE),\"\")","v":""},{"$f":"IF(M35>0,申請書!$W$7,\"\")","v":""},{"$f":"SUMIFS(別添!I$5:I$29,別添!$B$5:$B$29,$B35)","v":0},{"$f":"IFERROR(IF(COUNTIFS(別添!$B$5:$B$29,B35,別添!$J$5:$J$29,\"有\")>0,\"有\",\"\"),\"\")","v":""},{"$f":"SUMIFS(別添!K$5:K$29,別添!$B$5:$B$29,$B35)","v":0},{"$f":"SUMIFS(別添!L$5:L$29,別添!$B$5:$B$29,$B35)","v":0},{"$f":"SUMIFS(別添!M$5:M$29,別添!$B$5:$B$29,$B35)","v":0},0]
[32,null,{"$f":"IFERROR(VLOOKUP($B36,別添!$B$5:$G$29,2,FALSE),\"\")","v":0},{"$f":"IFERROR(VLOOKUP($B36,別添!$B$5:$G$29,4,FALSE),\"\")","v":0},{"$f":"IFERROR(VLOOKUP($B36,別添!$B$5:$G$29,5,FALSE),\"\")","v":0},{"$f":"IFERROR(VLOOKUP($B36,別添!$B$5:$G$29,6,FALSE),\"\")","v":""},{"$f":"IF(M36>0,申請書!$W$7,\"\")","v":""},{"$f":"SUMIFS(別添!I$5:I$29,別添!$B$5:$B$29,$B36)","v":0},{"$f":"IFERROR(IF(COUNTIFS(別添!$B$5:$B$29,B36,別添!$J$5:$J$29,\"有\")>0,\"有\",\"\"),\"\")","v":""},{"$f":"SUMIFS(別添!K$5:K$29,別添!$B$5:$B$29,$B36)","v":0},{"$f":"SUMIFS(別添!L$5:L$29,別添!$B$5:$B$29,$B36)","v":0},{"$f":"SUMIFS(別添!M$5:M$29,別添!$B$5:$B$29,$B36)","v":0},0]
[33,null,{"$f":"IFERROR(VLOOKUP($B37,別添!$B$5:$G$29,2,FALSE),\"\")","v":0},{"$f":"IFERROR(VLOOKUP($B37,別添!$B$5:$G$29,4,FALSE),\"\")","v":0},{"$f":"IFERROR(VLOOKUP($B37,別添!$B$5:$G$29,5,FALSE),\"\")","v":0},{"$f":"IFERROR(VLOOKUP($B37,別添!$B$5:$G$29,6,FALSE),\"\")","v":""},{"$f":"IF(M37>0,申請書!$W$7,\"\")","v":""},{"$f":"SUMIFS(別添!I$5:I$29,別添!$B$5:$B$29,$B37)","v":0},{"$f":"IFERROR(IF(COUNTIFS(別添!$B$5:$B$29,B37,別添!$J$5:$J$29,\"有\")>0,\"有\",\"\"),\"\")","v":""},{"$f":"SUMIFS(別添!K$5:K$29,別添!$B$5:$B$29,$B37)","v":0},{"$f":"SUMIFS(別添!L$5:L$29,別添!$B$5:$B$29,$B37)","v":0},{"$f":"SUMIFS(別添!M$5:M$29,別添!$B$5:$B$29,$B37)","v":0},0]
[34,null,{"$f":"IFERROR(VLOOKUP($B38,別添!$B$5:$G$29,2,FALSE),\"\")","v":0},{"$f":"IFERROR(VLOOKUP($B38,別添!$B$5:$G$29,4,FALSE),\"\")","v":0},{"$f":"IFERROR(VLOOKUP($B38,別添!$B$5:$G$29,5,FALSE),\"\")","v":0},{"$f":"IFERROR(VLOOKUP($B38,別添!$B$5:$G$29,6,FALSE),\"\")","v":""},{"$f":"IF(M38>0,申請書!$W$7,\"\")","v":""},{"$f":"SUMIFS(別添!I$5:I$29,別添!$B$5:$B$29,$B38)","v":0},{"$f":"IFERROR(IF(COUNTIFS(別添!$B$5:$B$29,B38,別添!$J$5:$J$29,\"有\")>0,\"有\",\"\"),\"\")","v":""},{"$f":"SUMIFS(別添!K$5:K$29,別添!$B$5:$B$29,$B38)","v":0},{"$f":"SUMIFS(別添!L$5:L$29,別添!$B$5:$B$29,$B38)","v":0},{"$f":"SUMIFS(別添!M$5:M$29,別添!$B$5:$B$29,$B38)","v":0},0]
[35,null,{"$f":"IFERROR(VLOOKUP($B39,別添!$B$5:$G$29,2,FALSE),\"\")","v":0},{"$f":"IFERROR(VLOOKUP($B39,別添!$B$5:$G$29,4,FALSE),\"\")","v":0},{"$f":"IFERROR(VLOOKUP($B39,別添!$B$5:$G$29,5,FALSE),\"\")","v":0},{"$f":"IFERROR(VLOOKUP($B39,別添!$B$5:$G$29,6,FALSE),\"\")","v":""},{"$f":"IF(M39>0,申請書!$W$7,\"\")","v":""},{"$f":"SUMIFS(別添!I$5:I$29,別添!$B$5:$B$29,$B39)","v":0},{"$f":"IFERROR(IF(COUNTIFS(別添!$B$5:$B$29,B39,別添!$J$5:$J$29,\"有\")>0,\"有\",\"\"),\"\")","v":""},{"$f":"SUMIFS(別添!K$5:K$29,別添!$B$5:$B$29,$B39)","v":0},{"$f":"SUMIFS(別添!L$5:L$29,別添!$B$5:$B$29,$B39)","v":0},{"$f":"SUMIFS(別添!M$5:M$29,別添!$B$5:$B$29,$B39)","v":0},0]
[36,null,{"$f":"IFERROR(VLOOKUP($B40,別添!$B$5:$G$29,2,FALSE),\"\")","v":0},{"$f":"IFERROR(VLOOKUP($B40,別添!$B$5:$G$29,4,FALSE),\"\")","v":0},{"$f":"IFERROR(VLOOKUP($B40,別添!$B$5:$G$29,5,FALSE),\"\")","v":0},{"$f":"IFERROR(VLOOKUP($B40,別添!$B$5:$G$29,6,FALSE),\"\")","v":""},{"$f":"IF(M40>0,申請書!$W$7,\"\")","v":""},{"$f":"SUMIFS(別添!I$5:I$29,別添!$B$5:$B$29,$B40)","v":0},{"$f":"IFERROR(IF(COUNTIFS(別添!$B$5:$B$29,B40,別添!$J$5:$J$29,\"有\")>0,\"有\",\"\"),\"\")","v":""},{"$f":"SUMIFS(別添!K$5:K$29,別添!$B$5:$B$29,$B40)","v":0},{"$f":"SUMIFS(別添!L$5:L$29,別添!$B$5:$B$29,$B40)","v":0},{"$f":"SUMIFS(別添!M$5:M$29,別添!$B$5:$B$29,$B40)","v":0},0]
[37,null,{"$f":"IFERROR(VLOOKUP($B41,別添!$B$5:$G$29,2,FALSE),\"\")","v":0},{"$f":"IFERROR(VLOOKUP($B41,別添!$B$5:$G$29,4,FALSE),\"\")","v":0},{"$f":"IFERROR(VLOOKUP($B41,別添!$B$5:$G$29,5,FALSE),\"\")","v":0},{"$f":"IFERROR(VLOOKUP($B41,別添!$B$5:$G$29,6,FALSE),\"\")","v":""},{"$f":"IF(M41>0,申請書!$W$7,\"\")","v":""},{"$f":"SUMIFS(別添!I$5:I$29,別添!$B$5:$B$29,$B41)","v":0},{"$f":"IFERROR(IF(COUNTIFS(別添!$B$5:$B$29,B41,別添!$J$5:$J$29,\"有\")>0,\"有\",\"\"),\"\")","v":""},{"$f":"SUMIFS(別添!K$5:K$29,別添!$B$5:$B$29,$B41)","v":0},{"$f":"SUMIFS(別添!L$5:L$29,別添!$B$5:$B$29,$B41)","v":0},{"$f":"SUMIFS(別添!M$5:M$29,別添!$B$5:$B$29,$B41)","v":0},0]
[38,null,{"$f":"IFERROR(VLOOKUP($B42,別添!$B$5:$G$29,2,FALSE),\"\")","v":0},{"$f":"IFERROR(VLOOKUP($B42,別添!$B$5:$G$29,4,FALSE),\"\")","v":0},{"$f":"IFERROR(VLOOKUP($B42,別添!$B$5:$G$29,5,FALSE),\"\")","v":0},{"$f":"IFERROR(VLOOKUP($B42,別添!$B$5:$G$29,6,FALSE),\"\")","v":""},{"$f":"IF(M42>0,申請書!$W$7,\"\")","v":""},{"$f":"SUMIFS(別添!I$5:I$29,別添!$B$5:$B$29,$B42)","v":0},{"$f":"IFERROR(IF(COUNTIFS(別添!$B$5:$B$29,B42,別添!$J$5:$J$29,\"有\")>0,\"有\",\"\"),\"\")","v":""},{"$f":"SUMIFS(別添!K$5:K$29,別添!$B$5:$B$29,$B42)","v":0},{"$f":"SUMIFS(別添!L$5:L$29,別添!$B$5:$B$29,$B42)","v":0},{"$f":"SUMIFS(別添!M$5:M$29,別添!$B$5:$B$29,$B42)","v":0},0]
[39,null,{"$f":"IFERROR(VLOOKUP($B43,別添!$B$5:$G$29,2,FALSE),\"\")","v":0},{"$f":"IFERROR(VLOOKUP($B43,別添!$B$5:$G$29,4,FALSE),\"\")","v":0},{"$f":"IFERROR(VLOOKUP($B43,別添!$B$5:$G$29,5,FALSE),\"\")","v":0},{"$f":"IFERROR(VLOOKUP($B43,別添!$B$5:$G$29,6,FALSE),\"\")","v":""},{"$f":"IF(M43>0,申請書!$W$7,\"\")","v":""},{"$f":"SUMIFS(別添!I$5:I$29,別添!$B$5:$B$29,$B43)","v":0},{"$f":"IFERROR(IF(COUNTIFS(別添!$B$5:$B$29,B43,別添!$J$5:$J$29,\"有\")>0,\"有\",\"\"),\"\")","v":""},{"$f":"SUMIFS(別添!K$5:K$29,別添!$B$5:$B$29,$B43)","v":0},{"$f":"SUMIFS(別添!L$5:L$29,別添!$B$5:$B$29,$B43)","v":0},{"$f":"SUMIFS(別添!M$5:M$29,別添!$B$5:$B$29,$B43)","v":0},0]
[40,null,{"$f":"IFERROR(VLOOKUP($B44,別添!$B$5:$G$29,2,FALSE),\"\")","v":0},{"$f":"IFERROR(VLOOKUP($B44,別添!$B$5:$G$29,4,FALSE),\"\")","v":0},{"$f":"IFERROR(VLOOKUP($B44,別添!$B$5:$G$29,5,FALSE),\"\")","v":0},{"$f":"IFERROR(VLOOKUP($B44,別添!$B$5:$G$29,6,FALSE),\"\")","v":""},{"$f":"IF(M44>0,申請書!$W$7,\"\")","v":""},{"$f":"SUMIFS(別添!I$5:I$29,別添!$B$5:$B$29,$B44)","v":0},{"$f":"IFERROR(IF(COUNTIFS(別添!$B$5:$B$29,B44,別添!$J$5:$J$29,\"有\")>0,\"有\",\"\"),\"\")","v":""},{"$f":"SUMIFS(別添!K$5:K$29,別添!$B$5:$B$29,$B44)","v":0},{"$f":"SUMIFS(別添!L$5:L$29,別添!$B$5:$B$29,$B44)","v":0},{"$f":"SUMIFS(別添!M$5:M$29,別添!$B$5:$B$29,$B44)","v":0},0]
[41,null,{"$f":"IFERROR(VLOOKUP($B45,別添!$B$5:$G$29,2,FALSE),\"\")","v":0},{"$f":"IFERROR(VLOOKUP($B45,別添!$B$5:$G$29,4,FALSE),\"\")","v":0},{"$f":"IFERROR(VLOOKUP($B45,別添!$B$5:$G$29,5,FALSE),\"\")","v":0},{"$f":"IFERROR(VLOOKUP($B45,別添!$B$5:$G$29,6,FALSE),\"\")","v":""},{"$f":"IF(M45>0,申請書!$W$7,\"\")","v":""},{"$f":"SUMIFS(別添!I$5:I$29,別添!$B$5:$B$29,$B45)","v":0},{"$f":"IFERROR(IF(COUNTIFS(別添!$B$5:$B$29,B45,別添!$J$5:$J$29,\"有\")>0,\"有\",\"\"),\"\")","v":""},{"$f":"SUMIFS(別添!K$5:K$29,別添!$B$5:$B$29,$B45)","v":0},{"$f":"SUMIFS(別添!L$5:L$29,別添!$B$5:$B$29,$B45)","v":0},{"$f":"SUMIFS(別添!M$5:M$29,別添!$B$5:$B$29,$B45)","v":0},0]
[42,null,{"$f":"IFERROR(VLOOKUP($B46,別添!$B$5:$G$29,2,FALSE),\"\")","v":0},{"$f":"IFERROR(VLOOKUP($B46,別添!$B$5:$G$29,4,FALSE),\"\")","v":0},{"$f":"IFERROR(VLOOKUP($B46,別添!$B$5:$G$29,5,FALSE),\"\")","v":0},{"$f":"IFERROR(VLOOKUP($B46,別添!$B$5:$G$29,6,FALSE),\"\")","v":""},{"$f":"IF(M46>0,申請書!$W$7,\"\")","v":""},{"$f":"SUMIFS(別添!I$5:I$29,別添!$B$5:$B$29,$B46)","v":0},{"$f":"IFERROR(IF(COUNTIFS(別添!$B$5:$B$29,B46,別添!$J$5:$J$29,\"有\")>0,\"有\",\"\"),\"\")","v":""},{"$f":"SUMIFS(別添!K$5:K$29,別添!$B$5:$B$29,$B46)","v":0},{"$f":"SUMIFS(別添!L$5:L$29,別添!$B$5:$B$29,$B46)","v":0},{"$f":"SUMIFS(別添!M$5:M$29,別添!$B$5:$B$29,$B46)","v":0},0]
[43,null,{"$f":"IFERROR(VLOOKUP($B47,別添!$B$5:$G$29,2,FALSE),\"\")","v":0},{"$f":"IFERROR(VLOOKUP($B47,別添!$B$5:$G$29,4,FALSE),\"\")","v":0},{"$f":"IFERROR(VLOOKUP($B47,別添!$B$5:$G$29,5,FALSE),\"\")","v":0},{"$f":"IFERROR(VLOOKUP($B47,別添!$B$5:$G$29,6,FALSE),\"\")","v":""},{"$f":"IF(M47>0,申請書!$W$7,\"\")","v":""},{"$f":"SUMIFS(別添!I$5:I$29,別添!$B$5:$B$29,$B47)","v":0},{"$f":"IFERROR(IF(COUNTIFS(別添!$B$5:$B$29,B47,別添!$J$5:$J$29,\"有\")>0,\"有\",\"\"),\"\")","v":""},{"$f":"SUMIFS(別添!K$5:K$29,別添!$B$5:$B$29,$B47)","v":0},{"$f":"SUMIFS(別添!L$5:L$29,別添!$B$5:$B$29,$B47)","v":0},{"$f":"SUMIFS(別添!M$5:M$29,別添!$B$5:$B$29,$B47)","v":0},0]
[44,null,{"$f":"IFERROR(VLOOKUP($B48,別添!$B$5:$G$29,2,FALSE),\"\")","v":0},{"$f":"IFERROR(VLOOKUP($B48,別添!$B$5:$G$29,4,FALSE),\"\")","v":0},{"$f":"IFERROR(VLOOKUP($B48,別添!$B$5:$G$29,5,FALSE),\"\")","v":0},{"$f":"IFERROR(VLOOKUP($B48,別添!$B$5:$G$29,6,FALSE),\"\")","v":""},{"$f":"IF(M48>0,申請書!$W$7,\"\")","v":""},{"$f":"SUMIFS(別添!I$5:I$29,別添!$B$5:$B$29,$B48)","v":0},{"$f":"IFERROR(IF(COUNTIFS(別添!$B$5:$B$29,B48,別添!$J$5:$J$29,\"有\")>0,\"有\",\"\"),\"\")","v":""},{"$f":"SUMIFS(別添!K$5:K$29,別添!$B$5:$B$29,$B48)","v":0},{"$f":"SUMIFS(別添!L$5:L$29,別添!$B$5:$B$29,$B48)","v":0},{"$f":"SUMIFS(別添!M$5:M$29,別添!$B$5:$B$29,$B48)","v":0},0]
[45,null,{"$f":"IFERROR(VLOOKUP($B49,別添!$B$5:$G$29,2,FALSE),\"\")","v":0},{"$f":"IFERROR(VLOOKUP($B49,別添!$B$5:$G$29,4,FALSE),\"\")","v":0},{"$f":"IFERROR(VLOOKUP($B49,別添!$B$5:$G$29,5,FALSE),\"\")","v":0},{"$f":"IFERROR(VLOOKUP($B49,別添!$B$5:$G$29,6,FALSE),\"\")","v":""},{"$f":"IF(M49>0,申請書!$W$7,\"\")","v":""},{"$f":"SUMIFS(別添!I$5:I$29,別添!$B$5:$B$29,$B49)","v":0},{"$f":"IFERROR(IF(COUNTIFS(別添!$B$5:$B$29,B49,別添!$J$5:$J$29,\"有\")>0,\"有\",\"\"),\"\")","v":""},{"$f":"SUMIFS(別添!K$5:K$29,別添!$B$5:$B$29,$B49)","v":0},{"$f":"SUMIFS(別添!L$5:L$29,別添!$B$5:$B$29,$B49)","v":0},{"$f":"SUMIFS(別添!M$5:M$29,別添!$B$5:$B$29,$B49)","v":0},0]
[46,null,{"$f":"IFERROR(VLOOKUP($B50,別添!$B$5:$G$29,2,FALSE),\"\")","v":0},{"$f":"IFERROR(VLOOKUP($B50,別添!$B$5:$G$29,4,FALSE),\"\")","v":0},{"$f":"IFERROR(VLOOKUP($B50,別添!$B$5:$G$29,5,FALSE),\"\")","v":0},{"$f":"IFERROR(VLOOKUP($B50,別添!$B$5:$G$29,6,FALSE),\"\")","v":""},{"$f":"IF(M50>0,申請書!$W$7,\"\")","v":""},{"$f":"SUMIFS(別添!I$5:I$29,別添!$B$5:$B$29,$B50)","v":0},{"$f":"IFERROR(IF(COUNTIFS(別添!$B$5:$B$29,B50,別添!$J$5:$J$29,\"有\")>0,\"有\",\"\"),\"\")","v":""},{"$f":"SUMIFS(別添!K$5:K$29,別添!$B$5:$B$29,$B50)","v":0},{"$f":"SUMIFS(別添!L$5:L$29,別添!$B$5:$B$29,$B50)","v":0},{"$f":"SUMIFS(別添!M$5:M$29,別添!$B$5:$B$29,$B50)","v":0},0]
[47,null,{"$f":"IFERROR(VLOOKUP($B51,別添!$B$5:$G$29,2,FALSE),\"\")","v":0},{"$f":"IFERROR(VLOOKUP($B51,別添!$B$5:$G$29,4,FALSE),\"\")","v":0},{"$f":"IFERROR(VLOOKUP($B51,別添!$B$5:$G$29,5,FALSE),\"\")","v":0},{"$f":"IFERROR(VLOOKUP($B51,別添!$B$5:$G$29,6,FALSE),\"\")","v":""},{"$f":"IF(M51>0,申請書!$W$7,\"\")","v":""},{"$f":"SUMIFS(別添!I$5:I$29,別添!$B$5:$B$29,$B51)","v":0},{"$f":"IFERROR(IF(COUNTIFS(別添!$B$5:$B$29,B51,別添!$J$5:$J$29,\"有\")>0,\"有\",\"\"),\"\")","v":""},{"$f":"SUMIFS(別添!K$5:K$29,別添!$B$5:$B$29,$B51)","v":0},{"$f":"SUMIFS(別添!L$5:L$29,別添!$B$5:$B$29,$B51)","v":0},{"$f":"SUMIFS(別添!M$5:M$29,別添!$B$5:$B$29,$B51)","v":0},0]
[48,null,{"$f":"IFERROR(VLOOKUP($B52,別添!$B$5:$G$29,2,FALSE),\"\")","v":0},{"$f":"IFERROR(VLOOKUP($B52,別添!$B$5:$G$29,4,FALSE),\"\")","v":0},{"$f":"IFERROR(VLOOKUP($B52,別添!$B$5:$G$29,5,FALSE),\"\")","v":0},{"$f":"IFERROR(VLOOKUP($B52,別添!$B$5:$G$29,6,FALSE),\"\")","v":""},{"$f":"IF(M52>0,申請書!$W$7,\"\")","v":""},{"$f":"SUMIFS(別添!I$5:I$29,別添!$B$5:$B$29,$B52)","v":0},{"$f":"IFERROR(IF(COUNTIFS(別添!$B$5:$B$29,B52,別添!$J$5:$J$29,\"有\")>0,\"有\",\"\"),\"\")","v":""},{"$f":"SUMIFS(別添!K$5:K$29,別添!$B$5:$B$29,$B52)","v":0},{"$f":"SUMIFS(別添!L$5:L$29,別添!$B$5:$B$29,$B52)","v":0},{"$f":"SUMIFS(別添!M$5:M$29,別添!$B$5:$B$29,$B52)","v":0},0]
[49,null,{"$f":"IFERROR(VLOOKUP($B53,別添!$B$5:$G$29,2,FALSE),\"\")","v":0},{"$f":"IFERROR(VLOOKUP($B53,別添!$B$5:$G$29,4,FALSE),\"\")","v":0},{"$f":"IFERROR(VLOOKUP($B53,別添!$B$5:$G$29,5,FALSE),\"\")","v":0},{"$f":"IFERROR(VLOOKUP($B53,別添!$B$5:$G$29,6,FALSE),\"\")","v":""},{"$f":"IF(M53>0,申請書!$W$7,\"\")","v":""},{"$f":"SUMIFS(別添!I$5:I$29,別添!$B$5:$B$29,$B53)","v":0},{"$f":"IFERROR(IF(COUNTIFS(別添!$B$5:$B$29,B53,別添!$J$5:$J$29,\"有\")>0,\"有\",\"\"),\"\")","v":""},{"$f":"SUMIFS(別添!K$5:K$29,別添!$B$5:$B$29,$B53)","v":0},{"$f":"SUMIFS(別添!L$5:L$29,別添!$B$5:$B$29,$B53)","v":0},{"$f":"SUMIFS(別添!M$5:M$29,別添!$B$5:$B$29,$B53)","v":0},0]
[50,null,{"$f":"IFERROR(VLOOKUP($B54,別添!$B$5:$G$29,2,FALSE),\"\")","v":0},{"$f":"IFERROR(VLOOKUP($B54,別添!$B$5:$G$29,4,FALSE),\"\")","v":0},{"$f":"IFERROR(VLOOKUP($B54,別添!$B$5:$G$29,5,FALSE),\"\")","v":0},{"$f":"IFERROR(VLOOKUP($B54,別添!$B$5:$G$29,6,FALSE),\"\")","v":""},{"$f":"IF(M54>0,申請書!$W$7,\"\")","v":""},{"$f":"SUMIFS(別添!I$5:I$29,別添!$B$5:$B$29,$B54)","v":0},{"$f":"IFERROR(IF(COUNTIFS(別添!$B$5:$B$29,B54,別添!$J$5:$J$29,\"有\")>0,\"有\",\"\"),\"\")","v":""},{"$f":"SUMIFS(別添!K$5:K$29,別添!$B$5:$B$29,$B54)","v":0},{"$f":"SUMIFS(別添!L$5:L$29,別添!$B$5:$B$29,$B54)","v":0},{"$f":"SUMIFS(別添!M$5:M$29,別添!$B$5:$B$29,$B54)","v":0},0]
[51,null,{"$f":"IFERROR(VLOOKUP($B55,別添!$B$5:$G$29,2,FALSE),\"\")","v":0},{"$f":"IFERROR(VLOOKUP($B55,別添!$B$5:$G$29,4,FALSE),\"\")","v":0},{"$f":"IFERROR(VLOOKUP($B55,別添!$B$5:$G$29,5,FALSE),\"\")","v":0},{"$f":"IFERROR(VLOOKUP($B55,別添!$B$5:$G$29,6,FALSE),\"\")","v":""},{"$f":"IF(M55>0,申請書!$W$7,\"\")","v":""},{"$f":"SUMIFS(別添!I$5:I$29,別添!$B$5:$B$29,$B55)","v":0},{"$f":"IFERROR(IF(COUNTIFS(別添!$B$5:$B$29,B55,別添!$J$5:$J$29,\"有\")>0,\"有\",\"\"),\"\")","v":""},{"$f":"SUMIFS(別添!K$5:K$29,別添!$B$5:$B$29,$B55)","v":0},{"$f":"SUMIFS(別添!L$5:L$29,別添!$B$5:$B$29,$B55)","v":0},{"$f":"SUMIFS(別添!M$5:M$29,別添!$B$5:$B$29,$B55)","v":0},0]
[52,null,{"$f":"IFERROR(VLOOKUP($B56,別添!$B$5:$G$29,2,FALSE),\"\")","v":0},{"$f":"IFERROR(VLOOKUP($B56,別添!$B$5:$G$29,4,FALSE),\"\")","v":0},{"$f":"IFERROR(VLOOKUP($B56,別添!$B$5:$G$29,5,FALSE),\"\")","v":0},{"$f":"IFERROR(VLOOKUP($B56,別添!$B$5:$G$29,6,FALSE),\"\")","v":""},{"$f":"IF(M56>0,申請書!$W$7,\"\")","v":""},{"$f":"SUMIFS(別添!I$5:I$29,別添!$B$5:$B$29,$B56)","v":0},{"$f":"IFERROR(IF(COUNTIFS(別添!$B$5:$B$29,B56,別添!$J$5:$J$29,\"有\")>0,\"有\",\"\"),\"\")","v":""},{"$f":"SUMIFS(別添!K$5:K$29,別添!$B$5:$B$29,$B56)","v":0},{"$f":"SUMIFS(別添!L$5:L$29,別添!$B$5:$B$29,$B56)","v":0},{"$f":"SUMIFS(別添!M$5:M$29,別添!$B$5:$B$29,$B56)","v":0},0]
[53,null,{"$f":"IFERROR(VLOOKUP($B57,別添!$B$5:$G$29,2,FALSE),\"\")","v":0},{"$f":"IFERROR(VLOOKUP($B57,別添!$B$5:$G$29,4,FALSE),\"\")","v":0},{"$f":"IFERROR(VLOOKUP($B57,別添!$B$5:$G$29,5,FALSE),\"\")","v":0},{"$f":"IFERROR(VLOOKUP($B57,別添!$B$5:$G$29,6,FALSE),\"\")","v":""},{"$f":"IF(M57>0,申請書!$W$7,\"\")","v":""},{"$f":"SUMIFS(別添!I$5:I$29,別添!$B$5:$B$29,$B57)","v":0},{"$f":"IFERROR(IF(COUNTIFS(別添!$B$5:$B$29,B57,別添!$J$5:$J$29,\"有\")>0,\"有\",\"\"),\"\")","v":""},{"$f":"SUMIFS(別添!K$5:K$29,別添!$B$5:$B$29,$B57)","v":0},{"$f":"SUMIFS(別添!L$5:L$29,別添!$B$5:$B$29,$B57)","v":0},{"$f":"SUMIFS(別添!M$5:M$29,別添!$B$5:$B$29,$B57)","v":0},0]
[54,null,{"$f":"IFERROR(VLOOKUP($B58,別添!$B$5:$G$29,2,FALSE),\"\")","v":0},{"$f":"IFERROR(VLOOKUP($B58,別添!$B$5:$G$29,4,FALSE),\"\")","v":0},{"$f":"IFERROR(VLOOKUP($B58,別添!$B$5:$G$29,5,FALSE),\"\")","v":0},{"$f":"IFERROR(VLOOKUP($B58,別添!$B$5:$G$29,6,FALSE),\"\")","v":""},{"$f":"IF(M58>0,申請書!$W$7,\"\")","v":""},{"$f":"SUMIFS(別添!I$5:I$29,別添!$B$5:$B$29,$B58)","v":0},{"$f":"IFERROR(IF(COUNTIFS(別添!$B$5:$B$29,B58,別添!$J$5:$J$29,\"有\")>0,\"有\",\"\"),\"\")","v":""},{"$f":"SUMIFS(別添!K$5:K$29,別添!$B$5:$B$29,$B58)","v":0},{"$f":"SUMIFS(別添!L$5:L$29,別添!$B$5:$B$29,$B58)","v":0},{"$f":"SUMIFS(別添!M$5:M$29,別添!$B$5:$B$29,$B58)","v":0},0]
[55,null,{"$f":"IFERROR(VLOOKUP($B59,別添!$B$5:$G$29,2,FALSE),\"\")","v":0},{"$f":"IFERROR(VLOOKUP($B59,別添!$B$5:$G$29,4,FALSE),\"\")","v":0},{"$f":"IFERROR(VLOOKUP($B59,別添!$B$5:$G$29,5,FALSE),\"\")","v":0},{"$f":"IFERROR(VLOOKUP($B59,別添!$B$5:$G$29,6,FALSE),\"\")","v":""},{"$f":"IF(M59>0,申請書!$W$7,\"\")","v":""},{"$f":"SUMIFS(別添!I$5:I$29,別添!$B$5:$B$29,$B59)","v":0},{"$f":"IFERROR(IF(COUNTIFS(別添!$B$5:$B$29,B59,別添!$J$5:$J$29,\"有\")>0,\"有\",\"\"),\"\")","v":""},{"$f":"SUMIFS(別添!K$5:K$29,別添!$B$5:$B$29,$B59)","v":0},{"$f":"SUMIFS(別添!L$5:L$29,別添!$B$5:$B$29,$B59)","v":0},{"$f":"SUMIFS(別添!M$5:M$29,別添!$B$5:$B$29,$B59)","v":0},0]
[56,null,{"$f":"IFERROR(VLOOKUP($B60,別添!$B$5:$G$29,2,FALSE),\"\")","v":0},{"$f":"IFERROR(VLOOKUP($B60,別添!$B$5:$G$29,4,FALSE),\"\")","v":0},{"$f":"IFERROR(VLOOKUP($B60,別添!$B$5:$G$29,5,FALSE),\"\")","v":0},{"$f":"IFERROR(VLOOKUP($B60,別添!$B$5:$G$29,6,FALSE),\"\")","v":""},{"$f":"IF(M60>0,申請書!$W$7,\"\")","v":""},{"$f":"SUMIFS(別添!I$5:I$29,別添!$B$5:$B$29,$B60)","v":0},{"$f":"IFERROR(IF(COUNTIFS(別添!$B$5:$B$29,B60,別添!$J$5:$J$29,\"有\")>0,\"有\",\"\"),\"\")","v":""},{"$f":"SUMIFS(別添!K$5:K$29,別添!$B$5:$B$29,$B60)","v":0},{"$f":"SUMIFS(別添!L$5:L$29,別添!$B$5:$B$29,$B60)","v":0},{"$f":"SUMIFS(別添!M$5:M$29,別添!$B$5:$B$29,$B60)","v":0},0]
[57,null,{"$f":"IFERROR(VLOOKUP($B61,別添!$B$5:$G$29,2,FALSE),\"\")","v":0},{"$f":"IFERROR(VLOOKUP($B61,別添!$B$5:$G$29,4,FALSE),\"\")","v":0},{"$f":"IFERROR(VLOOKUP($B61,別添!$B$5:$G$29,5,FALSE),\"\")","v":0},{"$f":"IFERROR(VLOOKUP($B61,別添!$B$5:$G$29,6,FALSE),\"\")","v":""},{"$f":"IF(M61>0,申請書!$W$7,\"\")","v":""},{"$f":"SUMIFS(別添!I$5:I$29,別添!$B$5:$B$29,$B61)","v":0},{"$f":"IFERROR(IF(COUNTIFS(別添!$B$5:$B$29,B61,別添!$J$5:$J$29,\"有\")>0,\"有\",\"\"),\"\")","v":""},{"$f":"SUMIFS(別添!K$5:K$29,別添!$B$5:$B$29,$B61)","v":0},{"$f":"SUMIFS(別添!L$5:L$29,別添!$B$5:$B$29,$B61)","v":0},{"$f":"SUMIFS(別添!M$5:M$29,別添!$B$5:$B$29,$B61)","v":0},0]
[58,null,{"$f":"IFERROR(VLOOKUP($B62,別添!$B$5:$G$29,2,FALSE),\"\")","v":0},{"$f":"IFERROR(VLOOKUP($B62,別添!$B$5:$G$29,4,FALSE),\"\")","v":0},{"$f":"IFERROR(VLOOKUP($B62,別添!$B$5:$G$29,5,FALSE),\"\")","v":0},{"$f":"IFERROR(VLOOKUP($B62,別添!$B$5:$G$29,6,FALSE),\"\")","v":""},{"$f":"IF(M62>0,申請書!$W$7,\"\")","v":""},{"$f":"SUMIFS(別添!I$5:I$29,別添!$B$5:$B$29,$B62)","v":0},{"$f":"IFERROR(IF(COUNTIFS(別添!$B$5:$B$29,B62,別添!$J$5:$J$29,\"有\")>0,\"有\",\"\"),\"\")","v":""},{"$f":"SUMIFS(別添!K$5:K$29,別添!$B$5:$B$29,$B62)","v":0},{"$f":"SUMIFS(別添!L$5:L$29,別添!$B$5:$B$29,$B62)","v":0},{"$f":"SUMIFS(別添!M$5:M$29,別添!$B$5:$B$29,$B62)","v":0},0]
[59,null,{"$f":"IFERROR(VLOOKUP($B63,別添!$B$5:$G$29,2,FALSE),\"\")","v":0},{"$f":"IFERROR(VLOOKUP($B63,別添!$B$5:$G$29,4,FALSE),\"\")","v":0},{"$f":"IFERROR(VLOOKUP($B63,別添!$B$5:$G$29,5,FALSE),\"\")","v":0},{"$f":"IFERROR(VLOOKUP($B63,別添!$B$5:$G$29,6,FALSE),\"\")","v":""},{"$f":"IF(M63>0,申請書!$W$7,\"\")","v":""},{"$f":"SUMIFS(別添!I$5:I$29,別添!$B$5:$B$29,$B63)","v":0},{"$f":"IFERROR(IF(COUNTIFS(別添!$B$5:$B$29,B63,別添!$J$5:$J$29,\"有\")>0,\"有\",\"\"),\"\")","v":""},{"$f":"SUMIFS(別添!K$5:K$29,別添!$B$5:$B$29,$B63)","v":0},{"$f":"SUMIFS(別添!L$5:L$29,別添!$B$5:$B$29,$B63)","v":0},{"$f":"SUMIFS(別添!M$5:M$29,別添!$B$5:$B$29,$B63)","v":0},0]
[60,null,{"$f":"IFERROR(VLOOKUP($B64,別添!$B$5:$G$29,2,FALSE),\"\")","v":0},{"$f":"IFERROR(VLOOKUP($B64,別添!$B$5:$G$29,4,FALSE),\"\")","v":0},{"$f":"IFERROR(VLOOKUP($B64,別添!$B$5:$G$29,5,FALSE),\"\")","v":0},{"$f":"IFERROR(VLOOKUP($B64,別添!$B$5:$G$29,6,FALSE),\"\")","v":""},{"$f":"IF(M64>0,申請書!$W$7,\"\")","v":""},{"$f":"SUMIFS(別添!I$5:I$29,別添!$B$5:$B$29,$B64)","v":0},{"$f":"IFERROR(IF(COUNTIFS(別添!$B$5:$B$29,B64,別添!$J$5:$J$29,\"有\")>0,\"有\",\"\"),\"\")","v":""},{"$f":"SUMIFS(別添!K$5:K$29,別添!$B$5:$B$29,$B64)","v":0},{"$f":"SUMIFS(別添!L$5:L$29,別添!$B$5:$B$29,$B64)","v":0},{"$f":"SUMIFS(別添!M$5:M$29,別添!$B$5:$B$29,$B64)","v":0},0]
[61,null,{"$f":"IFERROR(VLOOKUP($B65,別添!$B$5:$G$29,2,FALSE),\"\")","v":0},{"$f":"IFERROR(VLOOKUP($B65,別添!$B$5:$G$29,4,FALSE),\"\")","v":0},{"$f":"IFERROR(VLOOKUP($B65,別添!$B$5:$G$29,5,FALSE),\"\")","v":0},{"$f":"IFERROR(VLOOKUP($B65,別添!$B$5:$G$29,6,FALSE),\"\")","v":""},{"$f":"IF(M65>0,申請書!$W$7,\"\")","v":""},{"$f":"SUMIFS(別添!I$5:I$29,別添!$B$5:$B$29,$B65)","v":0},{"$f":"IFERROR(IF(COUNTIFS(別添!$B$5:$B$29,B65,別添!$J$5:$J$29,\"有\")>0,\"有\",\"\"),\"\")","v":""},{"$f":"SUMIFS(別添!K$5:K$29,別添!$B$5:$B$29,$B65)","v":0},{"$f":"SUMIFS(別添!L$5:L$29,別添!$B$5:$B$29,$B65)","v":0},{"$f":"SUMIFS(別添!M$5:M$29,別添!$B$5:$B$29,$B65)","v":0},0]
[62,null,{"$f":"IFERROR(VLOOKUP($B66,別添!$B$5:$G$29,2,FALSE),\"\")","v":0},{"$f":"IFERROR(VLOOKUP($B66,別添!$B$5:$G$29,4,FALSE),\"\")","v":0},{"$f":"IFERROR(VLOOKUP($B66,別添!$B$5:$G$29,5,FALSE),\"\")","v":0},{"$f":"IFERROR(VLOOKUP($B66,別添!$B$5:$G$29,6,FALSE),\"\")","v":""},{"$f":"IF(M66>0,申請書!$W$7,\"\")","v":""},{"$f":"SUMIFS(別添!I$5:I$29,別添!$B$5:$B$29,$B66)","v":0},{"$f":"IFERROR(IF(COUNTIFS(別添!$B$5:$B$29,B66,別添!$J$5:$J$29,\"有\")>0,\"有\",\"\"),\"\")","v":""},{"$f":"SUMIFS(別添!K$5:K$29,別添!$B$5:$B$29,$B66)","v":0},{"$f":"SUMIFS(別添!L$5:L$29,別添!$B$5:$B$29,$B66)","v":0},{"$f":"SUMIFS(別添!M$5:M$29,別添!$B$5:$B$29,$B66)","v":0},0]
[63,null,{"$f":"IFERROR(VLOOKUP($B67,別添!$B$5:$G$29,2,FALSE),\"\")","v":0},{"$f":"IFERROR(VLOOKUP($B67,別添!$B$5:$G$29,4,FALSE),\"\")","v":0},{"$f":"IFERROR(VLOOKUP($B67,別添!$B$5:$G$29,5,FALSE),\"\")","v":0},{"$f":"IFERROR(VLOOKUP($B67,別添!$B$5:$G$29,6,FALSE),\"\")","v":""},{"$f":"IF(M67>0,申請書!$W$7,\"\")","v":""},{"$f":"SUMIFS(別添!I$5:I$29,別添!$B$5:$B$29,$B67)","v":0},{"$f":"IFERROR(IF(COUNTIFS(別添!$B$5:$B$29,B67,別添!$J$5:$J$29,\"有\")>0,\"有\",\"\"),\"\")","v":""},{"$f":"SUMIFS(別添!K$5:K$29,別添!$B$5:$B$29,$B67)","v":0},{"$f":"SUMIFS(別添!L$5:L$29,別添!$B$5:$B$29,$B67)","v":0},{"$f":"SUMIFS(別添!M$5:M$29,別添!$B$5:$B$29,$B67)","v":0},0]
[64,null,{"$f":"IFERROR(VLOOKUP($B68,別添!$B$5:$G$29,2,FALSE),\"\")","v":0},{"$f":"IFERROR(VLOOKUP($B68,別添!$B$5:$G$29,4,FALSE),\"\")","v":0},{"$f":"IFERROR(VLOOKUP($B68,別添!$B$5:$G$29,5,FALSE),\"\")","v":0},{"$f":"IFERROR(VLOOKUP($B68,別添!$B$5:$G$29,6,FALSE),\"\")","v":""},{"$f":"IF(M68>0,申請書!$W$7,\"\")","v":""},{"$f":"SUMIFS(別添!I$5:I$29,別添!$B$5:$B$29,$B68)","v":0},{"$f":"IFERROR(IF(COUNTIFS(別添!$B$5:$B$29,B68,別添!$J$5:$J$29,\"有\")>0,\"有\",\"\"),\"\")","v":""},{"$f":"SUMIFS(別添!K$5:K$29,別添!$B$5:$B$29,$B68)","v":0},{"$f":"SUMIFS(別添!L$5:L$29,別添!$B$5:$B$29,$B68)","v":0},{"$f":"SUMIFS(別添!M$5:M$29,別添!$B$5:$B$29,$B68)","v":0},0]
[65,null,{"$f":"IFERROR(VLOOKUP($B69,別添!$B$5:$G$29,2,FALSE),\"\")","v":0},{"$f":"IFERROR(VLOOKUP($B69,別添!$B$5:$G$29,4,FALSE),\"\")","v":0},{"$f":"IFERROR(VLOOKUP($B69,別添!$B$5:$G$29,5,FALSE),\"\")","v":0},{"$f":"IFERROR(VLOOKUP($B69,別添!$B$5:$G$29,6,FALSE),\"\")","v":""},{"$f":"IF(M69>0,申請書!$W$7,\"\")","v":""},{"$f":"SUMIFS(別添!I$5:I$29,別添!$B$5:$B$29,$B69)","v":0},{"$f":"IFERROR(IF(COUNTIFS(別添!$B$5:$B$29,B69,別添!$J$5:$J$29,\"有\")>0,\"有\",\"\"),\"\")","v":""},{"$f":"SUMIFS(別添!K$5:K$29,別添!$B$5:$B$29,$B69)","v":0},{"$f":"SUMIFS(別添!L$5:L$29,別添!$B$5:$B$29,$B69)","v":0},{"$f":"SUMIFS(別添!M$5:M$29,別添!$B$5:$B$29,$B69)","v":0},0]
[66,null,{"$f":"IFERROR(VLOOKUP($B70,別添!$B$5:$G$29,2,FALSE),\"\")","v":0},{"$f":"IFERROR(VLOOKUP($B70,別添!$B$5:$G$29,4,FALSE),\"\")","v":0},{"$f":"IFERROR(VLOOKUP($B70,別添!$B$5:$G$29,5,FALSE),\"\")","v":0},{"$f":"IFERROR(VLOOKUP($B70,別添!$B$5:$G$29,6,FALSE),\"\")","v":""},{"$f":"IF(M70>0,申請書!$W$7,\"\")","v":""},{"$f":"SUMIFS(別添!I$5:I$29,別添!$B$5:$B$29,$B70)","v":0},{"$f":"IFERROR(IF(COUNTIFS(別添!$B$5:$B$29,B70,別添!$J$5:$J$29,\"有\")>0,\"有\",\"\"),\"\")","v":""},{"$f":"SUMIFS(別添!K$5:K$29,別添!$B$5:$B$29,$B70)","v":0},{"$f":"SUMIFS(別添!L$5:L$29,別添!$B$5:$B$29,$B70)","v":0},{"$f":"SUMIFS(別添!M$5:M$29,別添!$B$5:$B$29,$B70)","v":0},0]
[67,null,{"$f":"IFERROR(VLOOKUP($B71,別添!$B$5:$G$29,2,FALSE),\"\")","v":0},{"$f":"IFERROR(VLOOKUP($B71,別添!$B$5:$G$29,4,FALSE),\"\")","v":0},{"$f":"IFERROR(VLOOKUP($B71,別添!$B$5:$G$29,5,FALSE),\"\")","v":0},{"$f":"IFERROR(VLOOKUP($B71,別添!$B$5:$G$29,6,FALSE),\"\")","v":""},{"$f":"IF(M71>0,申請書!$W$7,\"\")","v":""},{"$f":"SUMIFS(別添!I$5:I$29,別添!$B$5:$B$29,$B71)","v":0},{"$f":"IFERROR(IF(COUNTIFS(別添!$B$5:$B$29,B71,別添!$J$5:$J$29,\"有\")>0,\"有\",\"\"),\"\")","v":""},{"$f":"SUMIFS(別添!K$5:K$29,別添!$B$5:$B$29,$B71)","v":0},{"$f":"SUMIFS(別添!L$5:L$29,別添!$B$5:$B$29,$B71)","v":0},{"$f":"SUMIFS(別添!M$5:M$29,別添!$B$5:$B$29,$B71)","v":0},0]
[68,null,{"$f":"IFERROR(VLOOKUP($B72,別添!$B$5:$G$29,2,FALSE),\"\")","v":0},{"$f":"IFERROR(VLOOKUP($B72,別添!$B$5:$G$29,4,FALSE),\"\")","v":0},{"$f":"IFERROR(VLOOKUP($B72,別添!$B$5:$G$29,5,FALSE),\"\")","v":0},{"$f":"IFERROR(VLOOKUP($B72,別添!$B$5:$G$29,6,FALSE),\"\")","v":""},{"$f":"IF(M72>0,申請書!$W$7,\"\")","v":""},{"$f":"SUMIFS(別添!I$5:I$29,別添!$B$5:$B$29,$B72)","v":0},{"$f":"IFERROR(IF(COUNTIFS(別添!$B$5:$B$29,B72,別添!$J$5:$J$29,\"有\")>0,\"有\",\"\"),\"\")","v":""},{"$f":"SUMIFS(別添!K$5:K$29,別添!$B$5:$B$29,$B72)","v":0},{"$f":"SUMIFS(別添!L$5:L$29,別添!$B$5:$B$29,$B72)","v":0},{"$f":"SUMIFS(別添!M$5:M$29,別添!$B$5:$B$29,$B72)","v":0},0]
[69,null,{"$f":"IFERROR(VLOOKUP($B73,別添!$B$5:$G$29,2,FALSE),\"\")","v":0},{"$f":"IFERROR(VLOOKUP($B73,別添!$B$5:$G$29,4,FALSE),\"\")","v":0},{"$f":"IFERROR(VLOOKUP($B73,別添!$B$5:$G$29,5,FALSE),\"\")","v":0},{"$f":"IFERROR(VLOOKUP($B73,別添!$B$5:$G$29,6,FALSE),\"\")","v":""},{"$f":"IF(M73>0,申請書!$W$7,\"\")","v":""},{"$f":"SUMIFS(別添!I$5:I$29,別添!$B$5:$B$29,$B73)","v":0},{"$f":"IFERROR(IF(COUNTIFS(別添!$B$5:$B$29,B73,別添!$J$5:$J$29,\"有\")>0,\"有\",\"\"),\"\")","v":""},{"$f":"SUMIFS(別添!K$5:K$29,別添!$B$5:$B$29,$B73)","v":0},{"$f":"SUMIFS(別添!L$5:L$29,別添!$B$5:$B$29,$B73)","v":0},{"$f":"SUMIFS(別添!M$5:M$29,別添!$B$5:$B$29,$B73)","v":0},0]
[70,null,{"$f":"IFERROR(VLOOKUP($B74,別添!$B$5:$G$29,2,FALSE),\"\")","v":0},{"$f":"IFERROR(VLOOKUP($B74,別添!$B$5:$G$29,4,FALSE),\"\")","v":0},{"$f":"IFERROR(VLOOKUP($B74,別添!$B$5:$G$29,5,FALSE),\"\")","v":0},{"$f":"IFERROR(VLOOKUP($B74,別添!$B$5:$G$29,6,FALSE),\"\")","v":""},{"$f":"IF(M74>0,申請書!$W$7,\"\")","v":""},{"$f":"SUMIFS(別添!I$5:I$29,別添!$B$5:$B$29,$B74)","v":0},{"$f":"IFERROR(IF(COUNTIFS(別添!$B$5:$B$29,B74,別添!$J$5:$J$29,\"有\")>0,\"有\",\"\"),\"\")","v":""},{"$f":"SUMIFS(別添!K$5:K$29,別添!$B$5:$B$29,$B74)","v":0},{"$f":"SUMIFS(別添!L$5:L$29,別添!$B$5:$B$29,$B74)","v":0},{"$f":"SUMIFS(別添!M$5:M$29,別添!$B$5:$B$29,$B74)","v":0},0]
[71,null,{"$f":"IFERROR(VLOOKUP($B75,別添!$B$5:$G$29,2,FALSE),\"\")","v":0},{"$f":"IFERROR(VLOOKUP($B75,別添!$B$5:$G$29,4,FALSE),\"\")","v":0},{"$f":"IFERROR(VLOOKUP($B75,別添!$B$5:$G$29,5,FALSE),\"\")","v":0},{"$f":"IFERROR(VLOOKUP($B75,別添!$B$5:$G$29,6,FALSE),\"\")","v":""},{"$f":"IF(M75>0,申請書!$W$7,\"\")","v":""},{"$f":"SUMIFS(別添!I$5:I$29,別添!$B$5:$B$29,$B75)","v":0},{"$f":"IFERROR(IF(COUNTIFS(別添!$B$5:$B$29,B75,別添!$J$5:$J$29,\"有\")>0,\"有\",\"\"),\"\")","v":""},{"$f":"SUMIFS(別添!K$5:K$29,別添!$B$5:$B$29,$B75)","v":0},{"$f":"SUMIFS(別添!L$5:L$29,別添!$B$5:$B$29,$B75)","v":0},{"$f":"SUMIFS(別添!M$5:M$29,別添!$B$5:$B$29,$B75)","v":0},0]
[72,null,{"$f":"IFERROR(VLOOKUP($B76,別添!$B$5:$G$29,2,FALSE),\"\")","v":0},{"$f":"IFERROR(VLOOKUP($B76,別添!$B$5:$G$29,4,FALSE),\"\")","v":0},{"$f":"IFERROR(VLOOKUP($B76,別添!$B$5:$G$29,5,FALSE),\"\")","v":0},{"$f":"IFERROR(VLOOKUP($B76,別添!$B$5:$G$29,6,FALSE),\"\")","v":""},{"$f":"IF(M76>0,申請書!$W$7,\"\")","v":""},{"$f":"SUMIFS(別添!I$5:I$29,別添!$B$5:$B$29,$B76)","v":0},{"$f":"IFERROR(IF(COUNTIFS(別添!$B$5:$B$29,B76,別添!$J$5:$J$29,\"有\")>0,\"有\",\"\"),\"\")","v":""},{"$f":"SUMIFS(別添!K$5:K$29,別添!$B$5:$B$29,$B76)","v":0},{"$f":"SUMIFS(別添!L$5:L$29,別添!$B$5:$B$29,$B76)","v":0},{"$f":"SUMIFS(別添!M$5:M$29,別添!$B$5:$B$29,$B76)","v":0},0]
[73,null,{"$f":"IFERROR(VLOOKUP($B77,別添!$B$5:$G$29,2,FALSE),\"\")","v":0},{"$f":"IFERROR(VLOOKUP($B77,別添!$B$5:$G$29,4,FALSE),\"\")","v":0},{"$f":"IFERROR(VLOOKUP($B77,別添!$B$5:$G$29,5,FALSE),\"\")","v":0},{"$f":"IFERROR(VLOOKUP($B77,別添!$B$5:$G$29,6,FALSE),\"\")","v":""},{"$f":"IF(M77>0,申請書!$W$7,\"\")","v":""},{"$f":"SUMIFS(別添!I$5:I$29,別添!$B$5:$B$29,$B77)","v":0},{"$f":"IFERROR(IF(COUNTIFS(別添!$B$5:$B$29,B77,別添!$J$5:$J$29,\"有\")>0,\"有\",\"\"),\"\")","v":""},{"$f":"SUMIFS(別添!K$5:K$29,別添!$B$5:$B$29,$B77)","v":0},{"$f":"SUMIFS(別添!L$5:L$29,別添!$B$5:$B$29,$B77)","v":0},{"$f":"SUMIFS(別添!M$5:M$29,別添!$B$5:$B$29,$B77)","v":0},0]
[74,null,{"$f":"IFERROR(VLOOKUP($B78,別添!$B$5:$G$29,2,FALSE),\"\")","v":0},{"$f":"IFERROR(VLOOKUP($B78,別添!$B$5:$G$29,4,FALSE),\"\")","v":0},{"$f":"IFERROR(VLOOKUP($B78,別添!$B$5:$G$29,5,FALSE),\"\")","v":0},{"$f":"IFERROR(VLOOKUP($B78,別添!$B$5:$G$29,6,FALSE),\"\")","v":""},{"$f":"IF(M78>0,申請書!$W$7,\"\")","v":""},{"$f":"SUMIFS(別添!I$5:I$29,別添!$B$5:$B$29,$B78)","v":0},{"$f":"IFERROR(IF(COUNTIFS(別添!$B$5:$B$29,B78,別添!$J$5:$J$29,\"有\")>0,\"有\",\"\"),\"\")","v":""},{"$f":"SUMIFS(別添!K$5:K$29,別添!$B$5:$B$29,$B78)","v":0},{"$f":"SUMIFS(別添!L$5:L$29,別添!$B$5:$B$29,$B78)","v":0},{"$f":"SUMIFS(別添!M$5:M$29,別添!$B$5:$B$29,$B78)","v":0},0]
[75,null,{"$f":"IFERROR(VLOOKUP($B79,別添!$B$5:$G$29,2,FALSE),\"\")","v":0},{"$f":"IFERROR(VLOOKUP($B79,別添!$B$5:$G$29,4,FALSE),\"\")","v":0},{"$f":"IFERROR(VLOOKUP($B79,別添!$B$5:$G$29,5,FALSE),\"\")","v":0},{"$f":"IFERROR(VLOOKUP($B79,別添!$B$5:$G$29,6,FALSE),\"\")","v":""},{"$f":"IF(M79>0,申請書!$W$7,\"\")","v":""},{"$f":"SUMIFS(別添!I$5:I$29,別添!$B$5:$B$29,$B79)","v":0},{"$f":"IFERROR(IF(COUNTIFS(別添!$B$5:$B$29,B79,別添!$J$5:$J$29,\"有\")>0,\"有\",\"\"),\"\")","v":""},{"$f":"SUMIFS(別添!K$5:K$29,別添!$B$5:$B$29,$B79)","v":0},{"$f":"SUMIFS(別添!L$5:L$29,別添!$B$5:$B$29,$B79)","v":0},{"$f":"SUMIFS(別添!M$5:M$29,別添!$B$5:$B$29,$B79)","v":0},0]
[76,null,{"$f":"IFERROR(VLOOKUP($B80,別添!$B$5:$G$29,2,FALSE),\"\")","v":0},{"$f":"IFERROR(VLOOKUP($B80,別添!$B$5:$G$29,4,FALSE),\"\")","v":0},{"$f":"IFERROR(VLOOKUP($B80,別添!$B$5:$G$29,5,FALSE),\"\")","v":0},{"$f":"IFERROR(VLOOKUP($B80,別添!$B$5:$G$29,6,FALSE),\"\")","v":""},{"$f":"IF(M80>0,申請書!$W$7,\"\")","v":""},{"$f":"SUMIFS(別添!I$5:I$29,別添!$B$5:$B$29,$B80)","v":0},{"$f":"IFERROR(IF(COUNTIFS(別添!$B$5:$B$29,B80,別添!$J$5:$J$29,\"有\")>0,\"有\",\"\"),\"\")","v":""},{"$f":"SUMIFS(別添!K$5:K$29,別添!$B$5:$B$29,$B80)","v":0},{"$f":"SUMIFS(別添!L$5:L$29,別添!$B$5:$B$29,$B80)","v":0},{"$f":"SUMIFS(別添!M$5:M$29,別添!$B$5:$B$29,$B80)","v":0},0]
[77,null,{"$f":"IFERROR(VLOOKUP($B81,別添!$B$5:$G$29,2,FALSE),\"\")","v":0},{"$f":"IFERROR(VLOOKUP($B81,別添!$B$5:$G$29,4,FALSE),\"\")","v":0},{"$f":"IFERROR(VLOOKUP($B81,別添!$B$5:$G$29,5,FALSE),\"\")","v":0},{"$f":"IFERROR(VLOOKUP($B81,別添!$B$5:$G$29,6,FALSE),\"\")","v":""},{"$f":"IF(M81>0,申請書!$W$7,\"\")","v":""},{"$f":"SUMIFS(別添!I$5:I$29,別添!$B$5:$B$29,$B81)","v":0},{"$f":"IFERROR(IF(COUNTIFS(別添!$B$5:$B$29,B81,別添!$J$5:$J$29,\"有\")>0,\"有\",\"\"),\"\")","v":""},{"$f":"SUMIFS(別添!K$5:K$29,別添!$B$5:$B$29,$B81)","v":0},{"$f":"SUMIFS(別添!L$5:L$29,別添!$B$5:$B$29,$B81)","v":0},{"$f":"SUMIFS(別添!M$5:M$29,別添!$B$5:$B$29,$B81)","v":0},0]
[78,null,{"$f":"IFERROR(VLOOKUP($B82,別添!$B$5:$G$29,2,FALSE),\"\")","v":0},{"$f":"IFERROR(VLOOKUP($B82,別添!$B$5:$G$29,4,FALSE),\"\")","v":0},{"$f":"IFERROR(VLOOKUP($B82,別添!$B$5:$G$29,5,FALSE),\"\")","v":0},{"$f":"IFERROR(VLOOKUP($B82,別添!$B$5:$G$29,6,FALSE),\"\")","v":""},{"$f":"IF(M82>0,申請書!$W$7,\"\")","v":""},{"$f":"SUMIFS(別添!I$5:I$29,別添!$B$5:$B$29,$B82)","v":0},{"$f":"IFERROR(IF(COUNTIFS(別添!$B$5:$B$29,B82,別添!$J$5:$J$29,\"有\")>0,\"有\",\"\"),\"\")","v":""},{"$f":"SUMIFS(別添!K$5:K$29,別添!$B$5:$B$29,$B82)","v":0},{"$f":"SUMIFS(別添!L$5:L$29,別添!$B$5:$B$29,$B82)","v":0},{"$f":"SUMIFS(別添!M$5:M$29,別添!$B$5:$B$29,$B82)","v":0},0]
[79,null,{"$f":"IFERROR(VLOOKUP($B83,別添!$B$5:$G$29,2,FALSE),\"\")","v":0},{"$f":"IFERROR(VLOOKUP($B83,別添!$B$5:$G$29,4,FALSE),\"\")","v":0},{"$f":"IFERROR(VLOOKUP($B83,別添!$B$5:$G$29,5,FALSE),\"\")","v":0},{"$f":"IFERROR(VLOOKUP($B83,別添!$B$5:$G$29,6,FALSE),\"\")","v":""},{"$f":"IF(M83>0,申請書!$W$7,\"\")","v":""},{"$f":"SUMIFS(別添!I$5:I$29,別添!$B$5:$B$29,$B83)","v":0},{"$f":"IFERROR(IF(COUNTIFS(別添!$B$5:$B$29,B83,別添!$J$5:$J$29,\"有\")>0,\"有\",\"\"),\"\")","v":""},{"$f":"SUMIFS(別添!K$5:K$29,別添!$B$5:$B$29,$B83)","v":0},{"$f":"SUMIFS(別添!L$5:L$29,別添!$B$5:$B$29,$B83)","v":0},{"$f":"SUMIFS(別添!M$5:M$29,別添!$B$5:$B$29,$B83)","v":0},0]
[80,null,{"$f":"IFERROR(VLOOKUP($B84,別添!$B$5:$G$29,2,FALSE),\"\")","v":0},{"$f":"IFERROR(VLOOKUP($B84,別添!$B$5:$G$29,4,FALSE),\"\")","v":0},{"$f":"IFERROR(VLOOKUP($B84,別添!$B$5:$G$29,5,FALSE),\"\")","v":0},{"$f":"IFERROR(VLOOKUP($B84,別添!$B$5:$G$29,6,FALSE),\"\")","v":""},{"$f":"IF(M84>0,申請書!$W$7,\"\")","v":""},{"$f":"SUMIFS(別添!I$5:I$29,別添!$B$5:$B$29,$B84)","v":0},{"$f":"IFERROR(IF(COUNTIFS(別添!$B$5:$B$29,B84,別添!$J$5:$J$29,\"有\")>0,\"有\",\"\"),\"\")","v":""},{"$f":"SUMIFS(別添!K$5:K$29,別添!$B$5:$B$29,$B84)","v":0},{"$f":"SUMIFS(別添!L$5:L$29,別添!$B$5:$B$29,$B84)","v":0},{"$f":"SUMIFS(別添!M$5:M$29,別添!$B$5:$B$29,$B84)","v":0},0]
[81,null,{"$f":"IFERROR(VLOOKUP($B85,別添!$B$5:$G$29,2,FALSE),\"\")","v":0},{"$f":"IFERROR(VLOOKUP($B85,別添!$B$5:$G$29,4,FALSE),\"\")","v":0},{"$f":"IFERROR(VLOOKUP($B85,別添!$B$5:$G$29,5,FALSE),\"\")","v":0},{"$f":"IFERROR(VLOOKUP($B85,別添!$B$5:$G$29,6,FALSE),\"\")","v":""},{"$f":"IF(M85>0,申請書!$W$7,\"\")","v":""},{"$f":"SUMIFS(別添!I$5:I$29,別添!$B$5:$B$29,$B85)","v":0},{"$f":"IFERROR(IF(COUNTIFS(別添!$B$5:$B$29,B85,別添!$J$5:$J$29,\"有\")>0,\"有\",\"\"),\"\")","v":""},{"$f":"SUMIFS(別添!K$5:K$29,別添!$B$5:$B$29,$B85)","v":0},{"$f":"SUMIFS(別添!L$5:L$29,別添!$B$5:$B$29,$B85)","v":0},{"$f":"SUMIFS(別添!M$5:M$29,別添!$B$5:$B$29,$B85)","v":0},0]
[82,null,{"$f":"IFERROR(VLOOKUP($B86,別添!$B$5:$G$29,2,FALSE),\"\")","v":0},{"$f":"IFERROR(VLOOKUP($B86,別添!$B$5:$G$29,4,FALSE),\"\")","v":0},{"$f":"IFERROR(VLOOKUP($B86,別添!$B$5:$G$29,5,FALSE),\"\")","v":0},{"$f":"IFERROR(VLOOKUP($B86,別添!$B$5:$G$29,6,FALSE),\"\")","v":""},{"$f":"IF(M86>0,申請書!$W$7,\"\")","v":""},{"$f":"SUMIFS(別添!I$5:I$29,別添!$B$5:$B$29,$B86)","v":0},{"$f":"IFERROR(IF(COUNTIFS(別添!$B$5:$B$29,B86,別添!$J$5:$J$29,\"有\")>0,\"有\",\"\"),\"\")","v":""},{"$f":"SUMIFS(別添!K$5:K$29,別添!$B$5:$B$29,$B86)","v":0},{"$f":"SUMIFS(別添!L$5:L$29,別添!$B$5:$B$29,$B86)","v":0},{"$f":"SUMIFS(別添!M$5:M$29,別添!$B$5:$B$29,$B86)","v":0},0]
[83,null,{"$f":"IFERROR(VLOOKUP($B87,別添!$B$5:$G$29,2,FALSE),\"\")","v":0},{"$f":"IFERROR(VLOOKUP($B87,別添!$B$5:$G$29,4,FALSE),\"\")","v":0},{"$f":"IFERROR(VLOOKUP($B87,別添!$B$5:$G$29,5,FALSE),\"\")","v":0},{"$f":"IFERROR(VLOOKUP($B87,別添!$B$5:$G$29,6,FALSE),\"\")","v":""},{"$f":"IF(M87>0,申請書!$W$7,\"\")","v":""},{"$f":"SUMIFS(別添!I$5:I$29,別添!$B$5:$B$29,$B87)","v":0},{"$f":"IFERROR(IF(COUNTIFS(別添!$B$5:$B$29,B87,別添!$J$5:$J$29,\"有\")>0,\"有\",\"\"),\"\")","v":""},{"$f":"SUMIFS(別添!K$5:K$29,別添!$B$5:$B$29,$B87)","v":0},{"$f":"SUMIFS(別添!L$5:L$29,別添!$B$5:$B$29,$B87)","v":0},{"$f":"SUMIFS(別添!M$5:M$29,別添!$B$5:$B$29,$B87)","v":0},0]
[84,null,{"$f":"IFERROR(VLOOKUP($B88,別添!$B$5:$G$29,2,FALSE),\"\")","v":0},{"$f":"IFERROR(VLOOKUP($B88,別添!$B$5:$G$29,4,FALSE),\"\")","v":0},{"$f":"IFERROR(VLOOKUP($B88,別添!$B$5:$G$29,5,FALSE),\"\")","v":0},{"$f":"IFERROR(VLOOKUP($B88,別添!$B$5:$G$29,6,FALSE),\"\")","v":""},{"$f":"IF(M88>0,申請書!$W$7,\"\")","v":""},{"$f":"SUMIFS(別添!I$5:I$29,別添!$B$5:$B$29,$B88)","v":0},{"$f":"IFERROR(IF(COUNTIFS(別添!$B$5:$B$29,B88,別添!$J$5:$J$29,\"有\")>0,\"有\",\"\"),\"\")","v":""},{"$f":"SUMIFS(別添!K$5:K$29,別添!$B$5:$B$29,$B88)","v":0},{"$f":"SUMIFS(別添!L$5:L$29,別添!$B$5:$B$29,$B88)","v":0},{"$f":"SUMIFS(別添!M$5:M$29,別添!$B$5:$B$29,$B88)","v":0},0]
[85,null,{"$f":"IFERROR(VLOOKUP($B89,別添!$B$5:$G$29,2,FALSE),\"\")","v":0},{"$f":"IFERROR(VLOOKUP($B89,別添!$B$5:$G$29,4,FALSE),\"\")","v":0},{"$f":"IFERROR(VLOOKUP($B89,別添!$B$5:$G$29,5,FALSE),\"\")","v":0},{"$f":"IFERROR(VLOOKUP($B89,別添!$B$5:$G$29,6,FALSE),\"\")","v":""},{"$f":"IF(M89>0,申請書!$W$7,\"\")","v":""},{"$f":"SUMIFS(別添!I$5:I$29,別添!$B$5:$B$29,$B89)","v":0},{"$f":"IFERROR(IF(COUNTIFS(別添!$B$5:$B$29,B89,別添!$J$5:$J$29,\"有\")>0,\"有\",\"\"),\"\")","v":""},{"$f":"SUMIFS(別添!K$5:K$29,別添!$B$5:$B$29,$B89)","v":0},{"$f":"SUMIFS(別添!L$5:L$29,別添!$B$5:$B$29,$B89)","v":0},{"$f":"SUMIFS(別添!M$5:M$29,別添!$B$5:$B$29,$B89)","v":0},0]
[86,null,{"$f":"IFERROR(VLOOKUP($B90,別添!$B$5:$G$29,2,FALSE),\"\")","v":0},{"$f":"IFERROR(VLOOKUP($B90,別添!$B$5:$G$29,4,FALSE),\"\")","v":0},{"$f":"IFERROR(VLOOKUP($B90,別添!$B$5:$G$29,5,FALSE),\"\")","v":0},{"$f":"IFERROR(VLOOKUP($B90,別添!$B$5:$G$29,6,FALSE),\"\")","v":""},{"$f":"IF(M90>0,申請書!$W$7,\"\")","v":""},{"$f":"SUMIFS(別添!I$5:I$29,別添!$B$5:$B$29,$B90)","v":0},{"$f":"IFERROR(IF(COUNTIFS(別添!$B$5:$B$29,B90,別添!$J$5:$J$29,\"有\")>0,\"有\",\"\"),\"\")","v":""},{"$f":"SUMIFS(別添!K$5:K$29,別添!$B$5:$B$29,$B90)","v":0},{"$f":"SUMIFS(別添!L$5:L$29,別添!$B$5:$B$29,$B90)","v":0},{"$f":"SUMIFS(別添!M$5:M$29,別添!$B$5:$B$29,$B90)","v":0},0]
[87,null,{"$f":"IFERROR(VLOOKUP($B91,別添!$B$5:$G$29,2,FALSE),\"\")","v":0},{"$f":"IFERROR(VLOOKUP($B91,別添!$B$5:$G$29,4,FALSE),\"\")","v":0},{"$f":"IFERROR(VLOOKUP($B91,別添!$B$5:$G$29,5,FALSE),\"\")","v":0},{"$f":"IFERROR(VLOOKUP($B91,別添!$B$5:$G$29,6,FALSE),\"\")","v":""},{"$f":"IF(M91>0,申請書!$W$7,\"\")","v":""},{"$f":"SUMIFS(別添!I$5:I$29,別添!$B$5:$B$29,$B91)","v":0},{"$f":"IFERROR(IF(COUNTIFS(別添!$B$5:$B$29,B91,別添!$J$5:$J$29,\"有\")>0,\"有\",\"\"),\"\")","v":""},{"$f":"SUMIFS(別添!K$5:K$29,別添!$B$5:$B$29,$B91)","v":0},{"$f":"SUMIFS(別添!L$5:L$29,別添!$B$5:$B$29,$B91)","v":0},{"$f":"SUMIFS(別添!M$5:M$29,別添!$B$5:$B$29,$B91)","v":0},0]
[88,null,{"$f":"IFERROR(VLOOKUP($B92,別添!$B$5:$G$29,2,FALSE),\"\")","v":0},{"$f":"IFERROR(VLOOKUP($B92,別添!$B$5:$G$29,4,FALSE),\"\")","v":0},{"$f":"IFERROR(VLOOKUP($B92,別添!$B$5:$G$29,5,FALSE),\"\")","v":0},{"$f":"IFERROR(VLOOKUP($B92,別添!$B$5:$G$29,6,FALSE),\"\")","v":""},{"$f":"IF(M92>0,申請書!$W$7,\"\")","v":""},{"$f":"SUMIFS(別添!I$5:I$29,別添!$B$5:$B$29,$B92)","v":0},{"$f":"IFERROR(IF(COUNTIFS(別添!$B$5:$B$29,B92,別添!$J$5:$J$29,\"有\")>0,\"有\",\"\"),\"\")","v":""},{"$f":"SUMIFS(別添!K$5:K$29,別添!$B$5:$B$29,$B92)","v":0},{"$f":"SUMIFS(別添!L$5:L$29,別添!$B$5:$B$29,$B92)","v":0},{"$f":"SUMIFS(別添!M$5:M$29,別添!$B$5:$B$29,$B92)","v":0},0]
[89,null,{"$f":"IFERROR(VLOOKUP($B93,別添!$B$5:$G$29,2,FALSE),\"\")","v":0},{"$f":"IFERROR(VLOOKUP($B93,別添!$B$5:$G$29,4,FALSE),\"\")","v":0},{"$f":"IFERROR(VLOOKUP($B93,別添!$B$5:$G$29,5,FALSE),\"\")","v":0},{"$f":"IFERROR(VLOOKUP($B93,別添!$B$5:$G$29,6,FALSE),\"\")","v":""},{"$f":"IF(M93>0,申請書!$W$7,\"\")","v":""},{"$f":"SUMIFS(別添!I$5:I$29,別添!$B$5:$B$29,$B93)","v":0},{"$f":"IFERROR(IF(COUNTIFS(別添!$B$5:$B$29,B93,別添!$J$5:$J$29,\"有\")>0,\"有\",\"\"),\"\")","v":""},{"$f":"SUMIFS(別添!K$5:K$29,別添!$B$5:$B$29,$B93)","v":0},{"$f":"SUMIFS(別添!L$5:L$29,別添!$B$5:$B$29,$B93)","v":0},{"$f":"SUMIFS(別添!M$5:M$29,別添!$B$5:$B$29,$B93)","v":0},0]
[90,null,{"$f":"IFERROR(VLOOKUP($B94,別添!$B$5:$G$29,2,FALSE),\"\")","v":0},{"$f":"IFERROR(VLOOKUP($B94,別添!$B$5:$G$29,4,FALSE),\"\")","v":0},{"$f":"IFERROR(VLOOKUP($B94,別添!$B$5:$G$29,5,FALSE),\"\")","v":0},{"$f":"IFERROR(VLOOKUP($B94,別添!$B$5:$G$29,6,FALSE),\"\")","v":""},{"$f":"IF(M94>0,申請書!$W$7,\"\")","v":""},{"$f":"SUMIFS(別添!I$5:I$29,別添!$B$5:$B$29,$B94)","v":0},{"$f":"IFERROR(IF(COUNTIFS(別添!$B$5:$B$29,B94,別添!$J$5:$J$29,\"有\")>0,\"有\",\"\"),\"\")","v":""},{"$f":"SUMIFS(別添!K$5:K$29,別添!$B$5:$B$29,$B94)","v":0},{"$f":"SUMIFS(別添!L$5:L$29,別添!$B$5:$B$29,$B94)","v":0},{"$f":"SUMIFS(別添!M$5:M$29,別添!$B$5:$B$29,$B94)","v":0},0]
[91,null,{"$f":"IFERROR(VLOOKUP($B95,別添!$B$5:$G$29,2,FALSE),\"\")","v":0},{"$f":"IFERROR(VLOOKUP($B95,別添!$B$5:$G$29,4,FALSE),\"\")","v":0},{"$f":"IFERROR(VLOOKUP($B95,別添!$B$5:$G$29,5,FALSE),\"\")","v":0},{"$f":"IFERROR(VLOOKUP($B95,別添!$B$5:$G$29,6,FALSE),\"\")","v":""},{"$f":"IF(M95>0,申請書!$W$7,\"\")","v":""},{"$f":"SUMIFS(別添!I$5:I$29,別添!$B$5:$B$29,$B95)","v":0},{"$f":"IFERROR(IF(COUNTIFS(別添!$B$5:$B$29,B95,別添!$J$5:$J$29,\"有\")>0,\"有\",\"\"),\"\")","v":""},{"$f":"SUMIFS(別添!K$5:K$29,別添!$B$5:$B$29,$B95)","v":0},{"$f":"SUMIFS(別添!L$5:L$29,別添!$B$5:$B$29,$B95)","v":0},{"$f":"SUMIFS(別添!M$5:M$29,別添!$B$5:$B$29,$B95)","v":0},0]
[92,null,{"$f":"IFERROR(VLOOKUP($B96,別添!$B$5:$G$29,2,FALSE),\"\")","v":0},{"$f":"IFERROR(VLOOKUP($B96,別添!$B$5:$G$29,4,FALSE),\"\")","v":0},{"$f":"IFERROR(VLOOKUP($B96,別添!$B$5:$G$29,5,FALSE),\"\")","v":0},{"$f":"IFERROR(VLOOKUP($B96,別添!$B$5:$G$29,6,FALSE),\"\")","v":""},{"$f":"IF(M96>0,申請書!$W$7,\"\")","v":""},{"$f":"SUMIFS(別添!I$5:I$29,別添!$B$5:$B$29,$B96)","v":0},{"$f":"IFERROR(IF(COUNTIFS(別添!$B$5:$B$29,B96,別添!$J$5:$J$29,\"有\")>0,\"有\",\"\"),\"\")","v":""},{"$f":"SUMIFS(別添!K$5:K$29,別添!$B$5:$B$29,$B96)","v":0},{"$f":"SUMIFS(別添!L$5:L$29,別添!$B$5:$B$29,$B96)","v":0},{"$f":"SUMIFS(別添!M$5:M$29,別添!$B$5:$B$29,$B96)","v":0},0]
[93,null,{"$f":"IFERROR(VLOOKUP($B97,別添!$B$5:$G$29,2,FALSE),\"\")","v":0},{"$f":"IFERROR(VLOOKUP($B97,別添!$B$5:$G$29,4,FALSE),\"\")","v":0},{"$f":"IFERROR(VLOOKUP($B97,別添!$B$5:$G$29,5,FALSE),\"\")","v":0},{"$f":"IFERROR(VLOOKUP($B97,別添!$B$5:$G$29,6,FALSE),\"\")","v":""},{"$f":"IF(M97>0,申請書!$W$7,\"\")","v":""},{"$f":"SUMIFS(別添!I$5:I$29,別添!$B$5:$B$29,$B97)","v":0},{"$f":"IFERROR(IF(COUNTIFS(別添!$B$5:$B$29,B97,別添!$J$5:$J$29,\"有\")>0,\"有\",\"\"),\"\")","v":""},{"$f":"SUMIFS(別添!K$5:K$29,別添!$B$5:$B$29,$B97)","v":0},{"$f":"SUMIFS(別添!L$5:L$29,別添!$B$5:$B$29,$B97)","v":0},{"$f":"SUMIFS(別添!M$5:M$29,別添!$B$5:$B$29,$B97)","v":0},0]
[94,null,{"$f":"IFERROR(VLOOKUP($B98,別添!$B$5:$G$29,2,FALSE),\"\")","v":0},{"$f":"IFERROR(VLOOKUP($B98,別添!$B$5:$G$29,4,FALSE),\"\")","v":0},{"$f":"IFERROR(VLOOKUP($B98,別添!$B$5:$G$29,5,FALSE),\"\")","v":0},{"$f":"IFERROR(VLOOKUP($B98,別添!$B$5:$G$29,6,FALSE),\"\")","v":""},{"$f":"IF(M98>0,申請書!$W$7,\"\")","v":""},{"$f":"SUMIFS(別添!I$5:I$29,別添!$B$5:$B$29,$B98)","v":0},{"$f":"IFERROR(IF(COUNTIFS(別添!$B$5:$B$29,B98,別添!$J$5:$J$29,\"有\")>0,\"有\",\"\"),\"\")","v":""},{"$f":"SUMIFS(別添!K$5:K$29,別添!$B$5:$B$29,$B98)","v":0},{"$f":"SUMIFS(別添!L$5:L$29,別添!$B$5:$B$29,$B98)","v":0},{"$f":"SUMIFS(別添!M$5:M$29,別添!$B$5:$B$29,$B98)","v":0},0]
[95,null,{"$f":"IFERROR(VLOOKUP($B99,別添!$B$5:$G$29,2,FALSE),\"\")","v":0},{"$f":"IFERROR(VLOOKUP($B99,別添!$B$5:$G$29,4,FALSE),\"\")","v":0},{"$f":"IFERROR(VLOOKUP($B99,別添!$B$5:$G$29,5,FALSE),\"\")","v":0},{"$f":"IFERROR(VLOOKUP($B99,別添!$B$5:$G$29,6,FALSE),\"\")","v":""},{"$f":"IF(M99>0,申請書!$W$7,\"\")","v":""},{"$f":"SUMIFS(別添!I$5:I$29,別添!$B$5:$B$29,$B99)","v":0},{"$f":"IFERROR(IF(COUNTIFS(別添!$B$5:$B$29,B99,別添!$J$5:$J$29,\"有\")>0,\"有\",\"\"),\"\")","v":""},{"$f":"SUMIFS(別添!K$5:K$29,別添!$B$5:$B$29,$B99)","v":0},{"$f":"SUMIFS(別添!L$5:L$29,別添!$B$5:$B$29,$B99)","v":0},{"$f":"SUMIFS(別添!M$5:M$29,別添!$B$5:$B$29,$B99)","v":0},0]
[96,null,{"$f":"IFERROR(VLOOKUP($B100,別添!$B$5:$G$29,2,FALSE),\"\")","v":0},{"$f":"IFERROR(VLOOKUP($B100,別添!$B$5:$G$29,4,FALSE),\"\")","v":0},{"$f":"IFERROR(VLOOKUP($B100,別添!$B$5:$G$29,5,FALSE),\"\")","v":0},{"$f":"IFERROR(VLOOKUP($B100,別添!$B$5:$G$29,6,FALSE),\"\")","v":""},{"$f":"IF(M100>0,申請書!$W$7,\"\")","v":""},{"$f":"SUMIFS(別添!I$5:I$29,別添!$B$5:$B$29,$B100)","v":0},{"$f":"IFERROR(IF(COUNTIFS(別添!$B$5:$B$29,B100,別添!$J$5:$J$29,\"有\")>0,\"有\",\"\"),\"\")","v":""},{"$f":"SUMIFS(別添!K$5:K$29,別添!$B$5:$B$29,$B100)","v":0},{"$f":"SUMIFS(別添!L$5:L$29,別添!$B$5:$B$29,$B100)","v":0},{"$f":"SUMIFS(別添!M$5:M$29,別添!$B$5:$B$29,$B100)","v":0},0]
[97,null,{"$f":"IFERROR(VLOOKUP($B101,別添!$B$5:$G$29,2,FALSE),\"\")","v":0},{"$f":"IFERROR(VLOOKUP($B101,別添!$B$5:$G$29,4,FALSE),\"\")","v":0},{"$f":"IFERROR(VLOOKUP($B101,別添!$B$5:$G$29,5,FALSE),\"\")","v":0},{"$f":"IFERROR(VLOOKUP($B101,別添!$B$5:$G$29,6,FALSE),\"\")","v":""},{"$f":"IF(M101>0,申請書!$W$7,\"\")","v":""},{"$f":"SUMIFS(別添!I$5:I$29,別添!$B$5:$B$29,$B101)","v":0},{"$f":"IFERROR(IF(COUNTIFS(別添!$B$5:$B$29,B101,別添!$J$5:$J$29,\"有\")>0,\"有\",\"\"),\"\")","v":""},{"$f":"SUMIFS(別添!K$5:K$29,別添!$B$5:$B$29,$B101)","v":0},{"$f":"SUMIFS(別添!L$5:L$29,別添!$B$5:$B$29,$B101)","v":0},{"$f":"SUMIFS(別添!M$5:M$29,別添!$B$5:$B$29,$B101)","v":0},0]
[98,null,{"$f":"IFERROR(VLOOKUP($B102,別添!$B$5:$G$29,2,FALSE),\"\")","v":0},{"$f":"IFERROR(VLOOKUP($B102,別添!$B$5:$G$29,4,FALSE),\"\")","v":0},{"$f":"IFERROR(VLOOKUP($B102,別添!$B$5:$G$29,5,FALSE),\"\")","v":0},{"$f":"IFERROR(VLOOKUP($B102,別添!$B$5:$G$29,6,FALSE),\"\")","v":""},{"$f":"IF(M102>0,申請書!$W$7,\"\")","v":""},{"$f":"SUMIFS(別添!I$5:I$29,別添!$B$5:$B$29,$B102)","v":0},{"$f":"IFERROR(IF(COUNTIFS(別添!$B$5:$B$29,B102,別添!$J$5:$J$29,\"有\")>0,\"有\",\"\"),\"\")","v":""},{"$f":"SUMIFS(別添!K$5:K$29,別添!$B$5:$B$29,$B102)","v":0},{"$f":"SUMIFS(別添!L$5:L$29,別添!$B$5:$B$29,$B102)","v":0},{"$f":"SUMIFS(別添!M$5:M$29,別添!$B$5:$B$29,$B102)","v":0},0]
[99,null,{"$f":"IFERROR(VLOOKUP($B103,別添!$B$5:$G$29,2,FALSE),\"\")","v":0},{"$f":"IFERROR(VLOOKUP($B103,別添!$B$5:$G$29,4,FALSE),\"\")","v":0},{"$f":"IFERROR(VLOOKUP($B103,別添!$B$5:$G$29,5,FALSE),\"\")","v":0},{"$f":"IFERROR(VLOOKUP($B103,別添!$B$5:$G$29,6,FALSE),\"\")","v":""},{"$f":"IF(M103>0,申請書!$W$7,\"\")","v":""},{"$f":"SUMIFS(別添!I$5:I$29,別添!$B$5:$B$29,$B103)","v":0},{"$f":"IFERROR(IF(COUNTIFS(別添!$B$5:$B$29,B103,別添!$J$5:$J$29,\"有\")>0,\"有\",\"\"),\"\")","v":""},{"$f":"SUMIFS(別添!K$5:K$29,別添!$B$5:$B$29,$B103)","v":0},{"$f":"SUMIFS(別添!L$5:L$29,別添!$B$5:$B$29,$B103)","v":0},{"$f":"SUMIFS(別添!M$5:M$29,別添!$B$5:$B$29,$B103)","v":0},0]
[100,null,{"$f":"IFERROR(VLOOKUP($B104,別添!$B$5:$G$29,2,FALSE),\"\")","v":0},{"$f":"IFERROR(VLOOKUP($B104,別添!$B$5:$G$29,4,FALSE),\"\")","v":0},{"$f":"IFERROR(VLOOKUP($B104,別添!$B$5:$G$29,5,FALSE),\"\")","v":0},{"$f":"IFERROR(VLOOKUP($B104,別添!$B$5:$G$29,6,FALSE),\"\")","v":""},{"$f":"IF(M104>0,申請書!$W$7,\"\")","v":""},{"$f":"SUMIFS(別添!I$5:I$29,別添!$B$5:$B$29,$B104)","v":0},{"$f":"IFERROR(IF(COUNTIFS(別添!$B$5:$B$29,B104,別添!$J$5:$J$29,\"有\")>0,\"有\",\"\"),\"\")","v":""},{"$f":"SUMIFS(別添!K$5:K$29,別添!$B$5:$B$29,$B104)","v":0},{"$f":"SUMIFS(別添!L$5:L$29,別添!$B$5:$B$29,$B104)","v":0},{"$f":"SUMIFS(別添!M$5:M$29,別添!$B$5:$B$29,$B104)","v":0},0]

{"sheet":"別添","index":3,"n_rows":32,"n_cols":40,"rows_kept":32,"cut":false,"hidden":false,"merged":[[2,8,2,13],[2,0,3,0],[2,1,3,1],[2,2,3,2],[2,3,3,3],[2,4,3,4],[2,5,3,5],[2,6,3,6],[2,7,3,7]]}
["（別添）事業所・施設別申請額一覧（サービス別一覧）"]
[]
["No.","介護保険\n事業所番号","事業所・施設名","サービス種別","電話番号","郵便番号","住所","代表となる\n事業所・施設名","補助予定額（千円）"]
[null,null,null,null,null,null,null,null,"介護\n慰労金","20万円\n対象者の\n有無","感染対策\n費用助成\n事業","個別再開\n支援助成\n事業","再開環境\n整備助成\n事業","合計"]
[{"$f":"ROW()-4","v":1},{"$f":"IFERROR(INDIRECT(\"個票\"&$A5&\"！$h$7\"),\"\")","v":0},{"$f":"IFERROR(INDIRECT(\"個票\"&$A5&\"！$t$7\"),\"\")","v":0},{"$f":"IFERROR(INDIRECT(\"個票\"&$A5&\"！$h$10\"),\"\")","v":0},{"$f":"IFERROR(INDIRECT(\"個票\"&$A5&\"！$AC$9\"),\"\")","v":0},{"$f":"IFERROR(INDIRECT(\"個票\"&$A5&\"！$d$9\"),\"\")","v":0},{"$f":"IFERROR(INDIRECT(\"個票\"&$A5&\"！$H$9\")&INDIRECT(\"個票\"&$A5&\"！$L$9\"),\"\")","v":""},{"$f":"IF(N5>0,申請書!$W$7,\"\")","v":""},{"$f":"IFERROR(INDIRECT(\"個票\"&$A5&\"！$ai$21\"),\"\")","v":0},{"$f":"IFERROR(INDIRECT(\"個票\"&$A5&\"！$ao$22\"),\"\")","v":0},{"$f":"IFERROR(INDIRECT(\"個票\"&$A5&\"！$ai$24\"),\"\")","v":0},{"$f":"IFERROR(INDIRECT(\"個票\"&$A5&\"！$ai$39\"),\"\")","v":0},{"$f":"IFERROR(INDIRECT(\"個票\"&$A5&\"！$ai$47\"),\"\")","v":0},{"$f":"SUM(I5,K5,L5,M5)","v":0},null,null,{"$f":"IF(_xlfn.SHEETS()-6=COUNTIF(N5:N32,\">0\"),\"○\",\"！（本表の事業所数と個票の枚数が一致しません）\")","v":{"$error":"#NAME?"}},null,null,null,null,null,null,null,null,null,null,null,null,null,null,null,null,null,null,null,null,null,{"$f":"IFERROR(INDIRECT(\"個票\"&$A5&\"！$m$22\"),\"\")","v":0},{"$f":"IFERROR(INDIRECT(\"個票\"&$A5&\"！$v$22\"),\"\")","v":0}]
[2,"","","","","","",{"$f":"IF(N6>0,申請書!$W$7,\"\")","v":""},"","","","","",0,null,null,null,null,null,null,null,null,null,null,null,null,null,null,null,null,null,null,null,null,null,null,null,null,"",""]
[3,"","","","","","",{"$f":"IF(N7>0,申請書!$W$7,\"\")","v":""},"","","","","",0,null,null,null,null,null,null,null,null,null,null,null,null,null,null,null,null,null,null,null,null,null,null,null,null,"",""]
[4,"","","","","","",{"$f":"IF(N8>0,申請書!$W$7,\"\")","v":""},"","","","","",0,null,null,null,null,null,null,null,null,null,null,null,null,null,null,null,null,null,null,null,null,null,null,null,null,"",""]
[5,"","","","","","",{"$f":"IF(N9>0,申請書!$W$7,\"\")","v":""},"","","","","",0,null,null,null,null,null,null,null,null,null,null,null,null,null,null,null,null,null,null,null,null,null,null,null,null,"",""]
[6,"","","","","","",{"$f":"IF(N10>0,申請書!$W$7,\"\")","v":""},"","","","","",0,null,null,null,null,null,null,null,null,null,null,null,null,null,null,null,null,null,null,null,null,null,null,null,null,"",""]
[7,"","","","","","",{"$f":"IF(N11>0,申請書!$W$7,\"\")","v":""},"","","","","",0,null,null,null,null,null,null,null,null,null,null,null,null,null,null,null,null,null,null,null,null,null,null,null,null,"",""]
[8,"","","","","","",{"$f":"IF(N12>0,申請書!$W$7,\"\")","v":""},"","","","","",0,null,null,null,null,null,null,null,null,null,null,null,null,null,null,null,null,null,null,null,null,null,null,null,null,"",""]
[9,"","","","","","",{"$f":"IF(N13>0,申請書!$W$7,\"\")","v":""},"","","","","",0,null,null,null,null,null,null,null,null,null,null,null,null,null,null,null,null,null,null,null,null,null,null,null,null,"",""]
[10,"","","","","","",{"$f":"IF(N14>0,申請書!$W$7,\"\")","v":""},"","","","","",0,null,null,null,null,null,null,null,null,null,null,null,null,null,null,null,null,null,null,null,null,null,null,null,null,"",""]
[11,"","","","","","",{"$f":"IF(N15>0,申請書!$W$7,\"\")","v":""},"","","","","",0,null,null,null,null,null,null,null,null,null,null,null,null,null,null,null,null,null,null,null,null,null,null,null,null,"",""]
[12,"","","","","","",{"$f":"IF(N16>0,申請書!$W$7,\"\")","v":""},"","","","","",0,null,null,null,null,null,null,null,null,null,null,null,null,null,null,null,null,null,null,null,null,null,null,null,null,"",""]
[13,"","","","","","",{"$f":"IF(N17>0,申請書!$W$7,\"\")","v":""},"","","","","",0,null,null,null,null,null,null,null,null,null,null,null,null,null,null,null,null,null,null,null,null,null,null,null,null,"",""]
[14,"","","","","","",{"$f":"IF(N18>0,申請書!$W$7,\"\")","v":""},"","","","","",0,null,null,null,null,null,null,null,null,null,null,null,null,null,null,null,null,null,null,null,null,null,null,null,null,"",""]
[15,"","","","","","",{"$f":"IF(N19>0,申請書!$W$7,\"\")","v":""},"","","","","",0,null,null,null,null,null,null,null,null,null,null,null,null,null,null,null,null,null,null,null,null,null,null,null,null,"",""]
[16,"","","","","","",{"$f":"IF(N20>0,申請書!$W$7,\"\")","v":""},"","","","","",0,null,null,null,null,null,null,null,null,null,null,null,null,null,null,null,null,null,null,null,null,null,null,null,null,"",""]
[17,"","","","","","",{"$f":"IF(N21>0,申請書!$W$7,\"\")","v":""},"","","","","",0,null,null,null,null,null,null,null,null,null,null,null,null,null,null,null,null,null,null,null,null,null,null,null,null,"",""]
[18,"","","","","","",{"$f":"IF(N22>0,申請書!$W$7,\"\")","v":""},"","","","","",0,null,null,null,null,null,null,null,null,null,null,null,null,null,null,null,null,null,null,null,null,null,null,null,null,"",""]
[19,"","","","","","",{"$f":"IF(N23>0,申請書!$W$7,\"\")","v":""},"","","","","",0,null,null,null,null,null,null,null,null,null,null,null,null,null,null,null,null,null,null,null,null,null,null,null,null,"",""]
[20,"","","","","","",{"$f":"IF(N24>0,申請書!$W$7,\"\")","v":""},"","","","","",0,null,null,null,null,null,null,null,null,null,null,null,null,null,null,null,null,null,null,null,null,null,null,null,null,"",""]
[21,"","","","","","",{"$f":"IF(N25>0,申請書!$W$7,\"\")","v":""},"","","","","",0,null,null,null,null,null,null,null,null,null,null,null,null,null,null,null,null,null,null,null,null,null,null,null,null,"",""]
[22,"","","","","","",{"$f":"IF(N26>0,申請書!$W$7,\"\")","v":""},"","","","","",0,null,null,null,null,null,null,null,null,null,null,null,null,null,null,null,null,null,null,null,null,null,null,null,null,"",""]
[23,"","","","","","",{"$f":"IF(N27>0,申請書!$W$7,\"\")","v":""},"","","","","",0,null,null,null,null,null,null,null,null,null,null,null,null,null,null,null,null,null,null,null,null,null,null,null,null,"",""]
[24,"","","","","","",{"$f":"IF(N28>0,申請書!$W$7,\"\")","v":""},"","","","","",0,null,null,null,null,null,null,null,null,null,null,null,null,null,null,null,null,null,null,null,null,null,null,null,null,"",""]
[25,"","","","","","",{"$f":"IF(N29>0,申請書!$W$7,\"\")","v":""},"","","","","",0,null,null,null,null,null,null,null,null,null,null,null,null,null,null,null,null,null,null,null,null,null,null,null,null,"",""]
[null,null,null,null,null,null,null,null,null,null,null,null,null,null,null,null,null,null,null,null,null,null,null,null,null,null,null,null,null,null,null,null,null,null,null,null,null,null,"",""]
["（注）行が不足する場合には、「本申請書の使い方」に従って、行を追加すること。列の挿入は絶対に行わないこと。"]
[null,null,"　"]

{"sheet":"個票1","index":4,"n_rows":62,"n_cols":84,"rows_kept":62,"cut":false,"hidden":false,"merged":[[2,0,2,38],[4,0,4,38],[6,0,6,6],[6,7,6,13],[6,14,6,18],[6,19,6,38],[7,3,7,6],[7,7,7,10],[7,11,7,24],[7,28,7,32],[7,33,7,38],[8,3,8,6],[8,7,8,10],[8,11,8,24],[8,28,8,32],[8,33,8,38],[9,0,9,6],[9,7,9,16],[9,17,9,22],[9,23,9,24],[9,25,9,27],[9,28,9,29],[9,30,9,31],[9,32,9,34],[9,35,9,36],[9,37,9,38],[9,41,9,46],[13,0,13,38],[15,23,15,25],[15,26,15,38],[16,23,16,25],[16,26,16,38],[18,0,18,38],[20,30,20,33],[20,34,20,36],[20,37,20,38],[21,7,21,11],[21,12,21,14],[21,16,21,20],[21,21,21,23],[21,30,21,32],[23,23,23,27],[23,34,23,36],[23,37,23,38],[24,34,24,36],[24,37,24,38],[25,34,25,36],[25,37,25,38],[26,0,26,6],[26,7,26,11],[26,12,26,38],[27,7,27,11],[27,12,27,38],[28,7,28,11],[28,12,28,38],[29,7,29,11],[29,12,29,38],[30,7,30,11],[30,12,30,38],[31,7,31,11],[31,12,31,38],[32,7,32,11],[32,12,32,38],[33,7,33,11],[33,12,33,38],[34,7,34,11],[34,12,34,38],[35,7,35,11],[35,12,35,38],[36,7,36,11],[36,12,36,38],[38,30,38,33],[38,34,38,36],[38,37,38,38],[39,23,39,25],[39,26,39,27],[39,28,39,33],[39,34,39,36],[39,37,39,38],[40,23,40,25],[40,26,40,27],[40,28,40,33],[40,34,40,36],[40,37,40,38],[41,23,41,25],[41,26,41,27],[41,28,41,33],[41,34,41,36],[41,37,41,38],[42,23,42,25],[42,26,42,27],[42,28,42,33],[42,34,42,36],[42,37,42,38],[43,23,43,25],[43,26,43,27],[43,28,43,33],[43,34,43,36],[43,37,43,38],[44,23,44,25],[44,26,44,27],[44,28,44,33],[44,34,44,36],[44,37,44,38],[46,23,46,27],[46,34,46,36],[46,37,46,38],[47,34,47,36],[47,37,47,38],[48,34,48,36],[48,37,48,38],[49,0,49,6],[49,7,49,11],[49,12,49,38],[50,7,50,11],[50,12,50,38],[51,7,51,11],[51,12,51,38],[52,7,52,11],[52,12,52,38],[53,7,53,11],[53,12,53,38],[54,7,54,11],[54,12,54,38],[55,7,55,11],[55,12,55,38],[56,7,56,11],[56,12,56,38],[57,7,57,11],[57,12,57,38],[58,7,58,11],[58,12,58,38],[59,7,59,11],[59,12,59,38],[7,0,8,2],[7,25,8,27],[10,0,11,7],[23,28,25,28],[24,23,25,25],[24,26,25,27],[39,0,40,9],[41,1,44,9],[46,28,48,28],[47,23,48,25],[47,26,48,27]]}
["（別紙様式２）"]
[]
["新型コロナウイルス感染症緊急包括支援交付金（介護分）に関する変更事業計画書（事業所単位）",null,null,null,null,null,null,null,null,null,null,null,null,null,null,null,null,null,null,null,null,null,null,null,null,null,null,null,null,null,null,null,null,null,null,null,null,null,null,null,null,null,null,null,null,null,null,null,null,null,null,null,null,null,null,null,null,null,null,null,null,null,null,null,null,null,null,null,null,null,null,null,null,null,null,null,null,null,null,"（１）①　",null,null,"（２）②"]
[null,null,null,null,null,null,null,null,null,null,null,null,null,null,null,null,null,null,null,null,null,null,null,null,null,null,null,null,null,null,null,null,null,null,null,null,null,null,null,null,null,null,null,null,null,null,null,null,null,null,null,null,null,null,null,null,null,null,null,null,null,null,null,null,null,null,null,null,null,null,null,null,null,null,null,null,null,null,null,"共通",null,"単価","共通"]
["施設概要",null,null,null,null,null,null,null,null,null,null,null,null,null,null,null,null,null,null,null,null,null,null,null,null,null,null,null,null,null,null,null,null,null,null,null,null,null,null,null,null,null,null,null,null,null,null,null,null,null,null,null,null,null,null,null,null,null,null,null,null,null,null,null,null,null,null,null,null,null,null,null,null,null,null,null,null,null,"通所介護事業所（通常規模型）",892,"/事業所",null,200,"/事業所"]
[null,null,null,null,null,null,null,null,null,null,null,null,null,null,null,null,null,null,null,null,null,null,null,null,null,null,null,null,null,null,null,null,null,null,null,null,null,null,null,null,null,null,null,null,null,null,null,null,null,null,null,null,null,null,null,null,null,null,null,null,null,null,null,null,null,null,null,null,null,null,null,null,null,null,null,null,null,null,"通所介護事業所（大規模型（Ⅰ））",1137,"/事業所",null,200,"/事業所"]
["介護保険事業所番号",null,null,null,null,null,null,null,null,null,null,null,null,null,"事業所名称",null,null,null,null,null,null,null,null,null,null,null,null,null,null,null,null,null,null,null,null,null,null,null,null,null,null,null,null,null,null,null,null,null,null,null,null,null,null,null,null,null,null,null,null,null,null,null,null,null,null,null,null,null,null,null,null,null,null,null,null,null,null,null,"通所介護事業所（大規模型（Ⅱ））",1480,"/事業所",null,200,"/事業所"]
["所在地",null,null,"郵便番号",null,null,null,"都道府県名",null,null,null,"住所",null,null,null,null,null,null,null,null,null,null,null,null,null,"連絡先",null,null,"電話番号",null,null,null,null,"担当部署名",null,null,null,null,null,null,null,null,null,null,null,null,null,null,null,null,null,null,null,null,null,null,null,null,null,null,null,null,null,null,null,null,null,null,null,null,null,null,null,null,null,null,null,null,"地域密着型通所介護事業所(療養通所介護事業所を含む)",384,"/事業所",null,200,"/事業所"]
[null,null,null,null,null,null,null,null,null,null,null,null,null,null,null,null,null,null,null,null,null,null,null,null,null,null,null,null,null,null,null,null,null,null,null,null,null,null,null,null,null,null,null,null,null,null,null,null,null,null,null,null,null,null,null,null,null,null,null,null,null,null,null,null,null,null,null,null,null,null,null,null,null,null,null,null,null,null,"認知症対応型通所介護事業所",375,"/事業所",null,200,"/事業所"]
["提供サービス",null,null,null,null,null,null,null,null,null,null,null,null,null,null,null,null,"サービス種類コード",null,null,null,null,null,null,null,"定員",null,null,null,null,"人",null,"職員数\n(派遣含む)",null,null,null,null,"人",null,null,null,null,null,null,null,null,null,null,null,null,null,null,null,null,null,null,null,null,null,null,null,null,null,null,null,null,null,null,null,null,null,null,null,null,null,null,null,null,"通所リハビリテーション事業所（通常規模型）",939,"/事業所",null,200,"/事業所"]
["事業区分",null,null,null,null,null,null,null,null," 介護慰労金事業　→　1を記載",null,null,null,null,null,null,null,null,null,null,null,null,null,null,null,"  感染対策費用助成事業　→ 2を記載",null,null,null,null,null,null,null,null,null,null,null,null,null,null,null,null,null,null,null,null,null,null,null,null,null,null,null,null,null,null,null,null,null,null,null,null,null,null,null,null,null,null,null,null,null,null,null,null,null,null,null,null,"通所リハビリテーション事業所（大規模型（Ⅰ））",1181,"/事業所",null,200,"/事業所"]
[null,null,null,null,null,null,null,null,null," 個別再開支援助成事業　→ 3を記載",null,null,null,null,null,null,null,null,null,null,null,null,null,null,null,"　再開環境整備助成事業　→ 4を記載",null,null,null,null,null,null,null,null,null,null,null,null,null,null,null,null,null,null,null,null,null,null,null,null,null,null,null,null,null,null,null,null,null,null,null,null,null,null,null,null,null,null,null,null,null,null,null,null,null,null,null,null,"通所リハビリテーション事業所（大規模型（Ⅱ））",1885,"/事業所",null,200,"/事業所"]
[null,null,null,null,null,null,null,null,null,null,null,null,null,null,null,null,null,null,null,null,null,null,null,null,null,null,null,null,null,null,null,null,null,null,null,null,null,null,null,null,null,null,null,null,null,null,null,null,null,null,null,null,null,null,null,null,null,null,null,null,null,null,null,null,null,null,null,null,null,null,null,null,null,null,null,null,null,null,"短期入所生活介護事業所",{"$f":"CD13*個票1!$AC$10","v":0},"/定員",44,200,"/事業所"]
["口座情報",null,null,null,null,null,null,null,null,null,null,null,null,null,null,null,null,null,null,null,null,null,null,null,null,null,null,null,null,null,null,null,null,null,null,null,null,null,null,null,null,null,null,null,null,null,null,null,null,null,null,null,null,null,null,null,null,null,null,null,null,null,null,null,null,null,null,null,null,null,null,null,null,null,null,null,null,null,"短期入所療養介護事業所",{"$f":"CD14*個票1!$AC$10","v":0},"/定員",44,200,"/事業所"]
[null,null,null,null,null,null,null,null,null,null,null,null,null,null,null,null,null,null,null,null,null,null,null,null,null,null,null,null,null,null,null,null,null,null,null,null,null,null,null,null,null,null,null,null,null,null,null,null,null,null,null,null,null,null,null,null,null,null,null,null,null,null,null,null,null,null,null,null,null,null,null,null,null,null,null,null,null,null,"訪問介護事業所",534,"/事業所",null,200,"/事業所"]
["国保連合会に登録されている口座情報を本事業の振込に使用することに同意する",null,null,null,null,null,null,null,null,null,null,null,null,null,null,null,null,null,null,null,null,null,null,null,null,null,"本事業は原則、国保連合会のシステムを活用した補助金の交付を予定しています。（債権譲渡がある場合等を除く）",null,null,null,null,null,null,null,null,null,null,null,null,null,null,null,null,null,null,null,null,null,null,null,null,null,null,null,null,null,null,null,null,null,null,null,null,null,null,null,null,null,null,null,null,null,null,null,null,null,null,null,"訪問入浴介護事業所",564,"/事業所",null,200,"/事業所"]
["国保連合会に登録されている口座は債権譲渡されていない",null,null,null,null,null,null,null,null,null,null,null,null,null,null,null,null,null,null,null,null,null,null,null,null,null,"債権譲渡されていない場合は、左欄に○を入れて下さい。\n※債権譲渡されている場合、都道府県に申請して下さい。",null,null,null,null,null,null,null,null,null,null,null,null,null,null,null,null,null,null,null,null,null,null,null,null,null,null,null,null,null,null,null,null,null,null,null,null,null,null,null,null,null,null,null,null,null,null,null,null,null,null,null,"訪問看護事業所",518,"/事業所",null,200,"/事業所"]
[null,null,null,null,null,null,null,null,null,null,null,null,null,null,null,null,null,null,null,null,null,null,null,null,null,null,null,null,null,null,null,null,null,null,null,null,null,null,null,null,null,null,null,null,null,null,null,null,null,null,null,null,null,null,null,null,null,null,null,null,null,null,null,null,null,null,null,null,null,null,null,null,null,null,null,null,null,null,"訪問リハビリテーション事業所",227,"/事業所",null,200,"/事業所"]
["支出予定額",null,null,null,null,null,null,null,null,null,null,null,null,null,null,null,null,null,null,null,null,null,null,null,null,null,null,null,null,null,null,null,null,null,null,null,null,null,null,null,null,null,null,null,null,null,null,null,null,null,null,null,null,null,null,null,null,null,null,null,null,null,null,null,null,null,null,null,null,null,null,null,null,null,null,null,null,null,"定期巡回・随時対応型訪問介護看護事業所",508,"/事業所",null,200,"/事業所"]
[null,null,null,null,null,null,null,null,null,null,null,null,null,null,null,null,null,null,null,null,null,null,null,null,null,null,null,null,null,null,null,null,null,null,null,null,null,null,null,null,null,null,null,null,null,null,null,null,null,null,null,null,null,null,null,null,null,null,null,null,null,null,null,null,null,null,null,null,null,null,null,null,null,null,null,null,null,null,"夜間対応型訪問介護事業所",204,"/事業所",null,200,"/事業所"]
["１．介護慰労金事業",null,null,null,null,null,null,null," ※対象職員の氏名等について、様式３を作成すること。",null,null,null,null,null,null,null,null,null,null,null,null,null,null,null,null,null,null,null,null,null,"申請額①",null,null,null,{"$f":"(20*M22+5*V22)*10+AE22","v":0},null,null,"千円",null,null,null,null,null,null,null,null,null,null,null,null,null,null,null,null,null,null,null,null,null,null,null,null,null,null,null,null,null,null,null,null,null,null,null,null,null,null,null,null,"居宅介護支援事業所",148,"/事業所",null,200,"/事業所"]
["慰労金の区分・人数",null,null,null,null,null,null,"20万円対象",null,null,null,null,null,null,null,"人","5万円対象",null,null,null,null,null,null,null,"人","振込手数料",null,null,null,null,null,null,null,"千円（千円未満切り捨て）",null,null,null,null,null,null,{"$f":"IF(M22=0,,\"有\")","v":0},null,null,null,null,null,null,null,null,null,null,null,null,null,null,null,null,null,null,null,null,null,null,null,null,null,null,null,null,null,null,null,null,null,null,null,null,null,"福祉用具貸与事業所",148,"/事業所",null,200,"/事業所"]
[null,null,null,null,null,null,null,null,null,null,null,null,null,null,null,null,null,null,null,null,null,null,null,null,null,null,null,null,null,null,null,null,null,null,null,null,null,null,null,null,null,null,null,null,null,null,null,null,null,null,null,null,null,null,null,null,null,null,null,null,null,null,null,null,null,null,null,null,null,null,null,null,null,null,null,null,null,null,"居宅療養管理指導事業所",33,"/事業所",null,200,"/事業所"]
["2．感染症対策を徹底した上での介護サービス提供支援事業",null,null,null,null,null,null,null,null,null,null,null,null,null,null,null,null,null,null,null,null,null,null,"補助上限額",null,null,null,null,"申請額","今回申請分②",null,null,null,null,{"$f":"MIN(X25,ROUNDDOWN(H37/1000,0))","v":0},null,null,"千円",null,null,null,null,null,null,null,null,null,null,null,null,null,null,null,null,null,null,null,null,null,null,null,null,null,null,null,null,null,null,null,null,null,null,null,null,null,null,null,null,"小規模多機能型居宅介護事業所",475,"/事業所",null,200,"/事業所"]
[null,null,null,null,null,null,null,null,null,null,null,null,null,null,null,null,null,null,null,null,null,null,null,{"$f":"IFERROR(VLOOKUP(H10,個票1!CA5:CB39,2,FALSE),\"\")","v":""},null,null,"千円",null,null,"既申請分",null,null,null,null,null,null,null,"千円",null,null,null,null,null,null,null,null,null,null,null,{"$f":"IF(X25>=AI26,\"○\",\"！（補助上限額を超過しています）\")","v":"○"},null,null,null,null,null,null,null,null,null,null,null,null,null,null,null,null,null,null,null,null,null,null,null,null,null,null,null,null,"看護小規模多機能型居宅介護事業所",638,"/事業所",null,200,"/事業所"]
["【感染拡大防止対策や介護サービスの提供体制の確保のための経費】",null,null,null,null,null,null,null,null,null,null,null,null,null,null,null,null,null,null,null,null,null,null,null,null,null,null,null,null,"年度合計額",null,null,null,null,{"$f":"SUM(AI24:AK25)","v":0},null,null,"千円",null,null,null,null,null,null,null,null,null,null,null,null,null,null,null,null,null,null,null,null,null,null,null,null,null,null,null,null,null,null,null,null,null,null,null,null,null,null,null,null,"介護老人福祉施設",{"$f":"CD26*個票1!$AC$10","v":0},"/定員",38,"-"]
["科目",null,null,null,null,null,null,"所要額（円）",null,null,null,null,"用途・品目・数量等",null,null,null,null,null,null,null,null,null,null,null,null,null,null,null,null,null,null,null,null,null,null,null,null,null,null,null,null,null,null,null,null,null,null,null,null,null,null,null,null,null,null,null,null,null,null,null,null,null,null,null,null,null,null,null,null,null,null,null,null,null,null,null,null,null,"地域密着型介護老人福祉施設",{"$f":"CD27*個票1!$AC$10","v":0},"/定員",40,"-"]
["賃金・報酬",null,null,null,null,null,null,null,null,null,null,null,null,null,null,null,null,null,null,null,null,null,null,null,null,null,null,null,null,null,null,null,null,null,null,null,null,null,null,null,null,null,null,null,null,null,null,null,null,null,null,null,null,null,null,null,null,null,null,null,null,null,null,null,null,null,null,null,null,null,null,null,null,null,null,null,null,null,"介護老人保健施設",{"$f":"CD28*個票1!$AC$10","v":0},"/定員",38,"-"]
["謝金",null,null,null,null,null,null,null,null,null,null,null,null,null,null,null,null,null,null,null,null,null,null,null,null,null,null,null,null,null,null,null,null,null,null,null,null,null,null,null,null,null,null,null,null,null,null,null,null,null,null,null,null,null,null,null,null,null,null,null,null,null,null,null,null,null,null,null,null,null,null,null,null,null,null,null,null,null,"介護医療院",{"$f":"CD29*個票1!$AC$10","v":0},"/定員",48,"-"]
["会議費",null,null,null,null,null,null,null,null,null,null,null,null,null,null,null,null,null,null,null,null,null,null,null,null,null,null,null,null,null,null,null,null,null,null,null,null,null,null,null,null,null,null,null,null,null,null,null,null,null,null,null,null,null,null,null,null,null,null,null,null,null,null,null,null,null,null,null,null,null,null,null,null,null,null,null,null,null,"介護療養型医療施設",{"$f":"CD30*個票1!$AC$10","v":0},"/定員",43,"-"]
["旅費",null,null,null,null,null,null,null,null,null,null,null,null,null,null,null,null,null,null,null,null,null,null,null,null,null,null,null,null,null,null,null,null,null,null,null,null,null,null,null,null,null,null,null,null,null,null,null,null,null,null,null,null,null,null,null,null,null,null,null,null,null,null,null,null,null,null,null,null,null,null,null,null,null,null,null,null,null,"認知症対応型共同生活介護事業所",{"$f":"CD31*個票1!$AC$10","v":0},"/定員",36,"-"]
["需用費",null,null,null,null,null,null,null,null,null,null,null,null,null,null,null,null,null,null,null,null,null,null,null,null,null,null,null,null,null,null,null,null,null,null,null,null,null,null,null,null,null,null,null,null,null,null,null,null,null,null,null,null,null,null,null,null,null,null,null,null,null,null,null,null,null,null,null,null,null,null,null,null,null,null,null,null,null,"養護老人ホーム（定員30人以上）",{"$f":"CD32*個票1!$AC$10","v":0},"/定員",37,"-"]
["役務費",null,null,null,null,null,null,null,null,null,null,null,null,null,null,null,null,null,null,null,null,null,null,null,null,null,null,null,null,null,null,null,null,null,null,null,null,null,null,null,null,null,null,null,null,null,null,null,null,null,null,null,null,null,null,null,null,null,null,null,null,null,null,null,null,null,null,null,null,null,null,null,null,null,null,null,null,null,"養護老人ホーム（定員29人以下）",{"$f":"CD33*個票1!$AC$10","v":0},"/定員",35,"-"]
["委託料",null,null,null,null,null,null,null,null,null,null,null,null,null,null,null,null,null,null,null,null,null,null,null,null,null,null,null,null,null,null,null,null,null,null,null,null,null,null,null,null,null,null,null,null,null,null,null,null,null,null,null,null,null,null,null,null,null,null,null,null,null,null,null,null,null,null,null,null,null,null,null,null,null,null,null,null,null,"軽費老人ホーム（定員30人以上）",{"$f":"CD34*個票1!$AC$10","v":0},"/定員",37,"-"]
["使用料及び賃借料",null,null,null,null,null,null,null,null,null,null,null,null,null,null,null,null,null,null,null,null,null,null,null,null,null,null,null,null,null,null,null,null,null,null,null,null,null,null,null,null,null,null,null,null,null,null,null,null,null,null,null,null,null,null,null,null,null,null,null,null,null,null,null,null,null,null,null,null,null,null,null,null,null,null,null,null,null,"軽費老人ホーム（定員29人以下）",{"$f":"CD35*個票1!$AC$10","v":0},"/定員",35,"-"]
["備品購入費",null,null,null,null,null,null,null,null,null,null,null,null,null,null,null,null,null,null,null,null,null,null,null,null,null,null,null,null,null,null,null,null,null,null,null,null,null,null,null,null,null,null,null,null,null,null,null,null,null,null,null,null,null,null,null,null,null,null,null,null,null,null,null,null,null,null,null,null,null,null,null,null,null,null,null,null,null,"有料老人ホーム（定員30人以上）",{"$f":"CD36*個票1!$AC$10","v":0},"/定員",37,"-"]
["合計",null,null,null,null,null,null,{"$f":"SUM(H28:L36)","v":0},null,null,null,null,null,null,null,null,null,null,null,null,null,null,null,null,null,null,null,null,null,null,null,null,null,null,null,null,null,null,null,null,null,null,null,null,null,null,null,null,null,null,null,null,null,null,null,null,null,null,null,null,null,null,null,null,null,null,null,null,null,null,null,null,null,null,null,null,null,null,"有料老人ホーム（定員29人以下）",{"$f":"CD37*個票1!$AC$10","v":0},"/定員",35,"-"]
[null,null,null,null,null,null,null,null,null,null,null,null,null,null,null,null,null,null,null,null,null,null,null,null,null,null,null,null,null,null,null,null,null,null,null,null,null,null,null,null,null,null,null,null,null,null,null,null,null,null,null,null,null,null,null,null,null,null,null,null,null,null,null,null,null,null,null,null,null,null,null,null,null,null,null,null,null,null,"サービス付き高齢者向け住宅（定員30人以上）",{"$f":"CD38*個票1!$AC$10","v":0},"/定員",37,"-"]
["3．在宅サービス事業所による利用者への再開支援への助成事業",null,null,null,null,null,null,null,null,null,null,null,null,null,null,null,null,null,null,null,null,null,null,null,null,null,null,null,null,null,"申請額③",null,null,null,{"$f":"IFERROR(IF(H10=\"居宅介護支援事業所\",(X42*AI42+X43*AI43+X44*AI44+X45*AI45)/1000,(X40*AI40+X41*AI41)/1000),\"\")","v":0},null,null,"千円",null,null,null,null,null,null,null,null,null,null,null,null,null,null,null,null,null,null,null,null,null,null,null,null,null,null,null,null,null,null,null,null,null,null,null,null,null,null,null,null,"サービス付き高齢者向け住宅（定員29人以下）",{"$f":"CD39*個票1!$AC$10","v":0},"/定員",35,"-"]
["利用者１人あたり単価\n　（居宅介護支援以外共通）",null,null,null,null,null,null,null,null,null,"電話による確認",null,null,null,null,null,null,null,null,null,null,null,null,{"$f":"IF($H$10=\"介護予防・生活支援サービス事業の事業者\",\"\",1500)","v":1500},null,null,"円",null,"対象利用者数",null,null,null,null,null,null,null,null,"人",null,null,null,null,null,null,null,null,null,null,null,null,null,null,null,null,null,null,null,null,null,null,null,null,null,null,null,null,null,null,null,null,null,null,null,null,null,null,null,null,"介護予防・生活支援サービス事業の事業者"]
[null,null,null,null,null,null,null,null,null,null,"訪問による確認",null,null,null,null,null,null,null,null,null,null,null,null,{"$f":"IF($H$10=\"介護予防・生活支援サービス事業の事業者\",\"\",3000)","v":3000},null,null,"円",null,"対象利用者数",null,null,null,null,null,null,null,null,"人"]
[null,"居宅介護支援のみ\n右欄に記載",null,null,null,null,null,null,null,null,"電話による確認",null,null,null,null,null,null,null,null,null,null,null,null,{"$f":"IF($H$10=\"介護予防・生活支援サービス事業の事業者\",\"\",1500)","v":1500},null,null,"円",null,"対象利用者数",null,null,null,null,null,null,null,null,"人"]
[null,null,null,null,null,null,null,null,null,null,"電話による確認（看護師等が協力した場合）",null,null,null,null,null,null,null,null,null,null,null,null,{"$f":"IF($H$10=\"介護予防・生活支援サービス事業の事業者\",\"\",4500)","v":4500},null,null,"円",null,"対象利用者数",null,null,null,null,null,null,null,null,"人"]
[null,null,null,null,null,null,null,null,null,null,"訪問による確認",null,null,null,null,null,null,null,null,null,null,null,null,{"$f":"IF($H$10=\"介護予防・生活支援サービス事業の事業者\",\"\",3000)","v":3000},null,null,"円",null,"対象利用者数",null,null,null,null,null,null,null,null,"人"]
[null,null,null,null,null,null,null,null,null,null,"訪問による確認（看護師等が協力した場合）",null,null,null,null,null,null,null,null,null,null,null,null,{"$f":"IF($H$10=\"介護予防・生活支援サービス事業の事業者\",\"\",6000)","v":6000},null,null,"円",null,"対象利用者数",null,null,null,null,null,null,null,null,"人"]
[]
["4．在宅サービス事業所における環境整備への助成事業",null,null,null,null,null,null,null,null,null,null,null,null,null,null,null,null,null,null,null,null,null,null,"補助上限額",null,null,null,null,"申請額","今回申請分④",null,null,null,null,{"$f":"MIN(X48,ROUNDDOWN(H60/1000,0))","v":0},null,null,"千円"]
[null,null,null,null,null,null,null,null,null,null,null,null,null,null,null,null,null,null,null,null,null,null,null,{"$f":"IFERROR(VLOOKUP(H10,個票1!CA5:CE39,5,FALSE),\"\")","v":""},null,null,"千円",null,null,"既申請分",null,null,null,null,null,null,null,"千円",null,null,null,null,null,null,null,null,null,null,null,{"$f":"IF(X48>=AI49,\"○\",\"！（補助上限額を超過しています）\")","v":"○"}]
["【在宅サービス事業所における環境整備のための経費】",null,null,null,null,null,null,null,null,null,null,null,null,null,null,null,null,null,null,null,null,null,null,null,null,null,null,null,null,"年度合計額",null,null,null,null,{"$f":"SUM(AI47:AK48)","v":0},null,null,"千円"]
["科目",null,null,null,null,null,null,"所要額（円）",null,null,null,null,"用途・品目・数量等"]
["賃金・報酬"]
["謝金"]
["会議費"]
["旅費"]
["需用費"]
["役務費"]
["委託料"]
["使用料及び賃借料"]
["備品購入費"]
["合計",null,null,null,null,null,null,{"$f":"SUM(H51:L59)","v":0}]
[]
["（注）２．及び４．の事業の申請額（今回申請分）は、補助上限額と所要額を比較していずれか低い方の額が入力される。"]

{"sheet":"職員表","index":5,"n_rows":85,"n_cols":21,"rows_kept":85,"cut":false,"hidden":false,"merged":[[3,7,3,9],[3,10,3,13],[3,15,3,18],[3,19,3,20],[3,0,4,0],[3,1,4,1],[3,2,4,2],[3,3,4,3],[3,6,4,6],[3,14,4,14]]}
["（別紙様式３）介護慰労金受給職員表（法人単位）"]
[]
["※　本表は法人単位でまとめて記載すること。"]
[null,"氏名\n（漢字）","氏名\n（全角カナ）","生年月日\n（西暦）",null,null,"本人の住所","主たる勤務先",null,null,"分類",null,null,null,"慰労金\n(万円)","確認事項",null,null,null,"支払実績"]
[null,null,null,null,"（確認用）","（確認用）",null,"事業所番号","サービス種類コード","事業所・施設の名称","施設区分","対応区分","(計算用)","他の施設等との期間通算がある場合その施設名",null,"委任状の有無","他法人での慰労金の申請の有無","業務委託による\n従事者","重複\n申請者確認用","支払年月日\n(西暦)","支払金額\n（円）"]
[{"$f":"ROW()-5","v":1},null,null,null,{"$f":"B6&C6&D6","v":""},{"$f":"IF(E6=\"\",\"\",COUNTIF($E$6:$E$85,E6))","v":""},null,null,null,null,null,null,{"$f":"K6&L6","v":""},null,{"$f":"IFERROR(VLOOKUP(M6,計算用!$A$8:$B$15,2,FALSE),\"\")","v":""},null,null,null,{"$f":"IF(F6>=2,\"\",\"可\")","v":""}]
[2,null,null,null,"","",null,null,null,null,null,null,"",null,{"$f":"IFERROR(VLOOKUP(M7,計算用!$A$8:$B$15,2,FALSE),\"\")","v":""},null,null,null,""]
[3,null,null,null,"","",null,null,null,null,null,null,"",null,{"$f":"IFERROR(VLOOKUP(M8,計算用!$A$8:$B$15,2,FALSE),\"\")","v":""},null,null,null,""]
[4,null,null,null,"","",null,null,null,null,null,null,"",null,{"$f":"IFERROR(VLOOKUP(M9,計算用!$A$8:$B$15,2,FALSE),\"\")","v":""},null,null,null,""]
[5,null,null,null,"","",null,null,null,null,null,null,"",null,{"$f":"IFERROR(VLOOKUP(M10,計算用!$A$8:$B$15,2,FALSE),\"\")","v":""},null,null,null,""]
[6,null,null,null,"","",null,null,null,null,null,null,"",null,{"$f":"IFERROR(VLOOKUP(M11,計算用!$A$8:$B$15,2,FALSE),\"\")","v":""},null,null,null,""]
[7,null,null,null,"","",null,null,null,null,null,null,"",null,{"$f":"IFERROR(VLOOKUP(M12,計算用!$A$8:$B$15,2,FALSE),\"\")","v":""},null,null,null,""]
[8,null,null,null,"","",null,null,null,null,null,null,"",null,{"$f":"IFERROR(VLOOKUP(M13,計算用!$A$8:$B$15,2,FALSE),\"\")","v":""},null,null,null,""]
[9,null,null,null,"","",null,null,null,null,null,null,"",null,{"$f":"IFERROR(VLOOKUP(M14,計算用!$A$8:$B$15,2,FALSE),\"\")","v":""},null,null,null,""]
[10,null,null,null,"","",null,null,null,null,null,null,"",null,{"$f":"IFERROR(VLOOKUP(M15,計算用!$A$8:$B$15,2,FALSE),\"\")","v":""},null,null,null,""]
[11,null,null,null,"","",null,null,null,null,null,null,"",null,{"$f":"IFERROR(VLOOKUP(M16,計算用!$A$8:$B$15,2,FALSE),\"\")","v":""},null,null,null,""]
[12,null,null,null,"","",null,null,null,null,null,null,"",null,{"$f":"IFERROR(VLOOKUP(M17,計算用!$A$8:$B$15,2,FALSE),\"\")","v":""},null,null,null,""]
[13,null,null,null,"","",null,null,null,null,null,null,"",null,{"$f":"IFERROR(VLOOKUP(M18,計算用!$A$8:$B$15,2,FALSE),\"\")","v":""},null,null,null,""]
[14,null,null,null,"","",null,null,null,null,null,null,"",null,{"$f":"IFERROR(VLOOKUP(M19,計算用!$A$8:$B$15,2,FALSE),\"\")","v":""},null,null,null,""]
[15,null,null,null,"","",null,null,null,null,null,null,"",null,{"$f":"IFERROR(VLOOKUP(M20,計算用!$A$8:$B$15,2,FALSE),\"\")","v":""},null,null,null,""]
[16,null,null,null,"","",null,null,null,null,null,null,"",null,{"$f":"IFERROR(VLOOKUP(M21,計算用!$A$8:$B$15,2,FALSE),\"\")","v":""},null,null,null,""]
[17,null,null,null,"","",null,null,null,null,null,null,"",null,{"$f":"IFERROR(VLOOKUP(M22,計算用!$A$8:$B$15,2,FALSE),\"\")","v":""},null,null,null,""]
[18,null,null,null,"","",null,null,null,null,null,null,"",null,{"$f":"IFERROR(VLOOKUP(M23,計算用!$A$8:$B$15,2,FALSE),\"\")","v":""},null,null,null,""]
[19,null,null,null,"","",null,null,null,null,null,null,"",null,{"$f":"IFERROR(VLOOKUP(M24,計算用!$A$8:$B$15,2,FALSE),\"\")","v":""},null,null,null,""]
[20,null,null,null,"","",null,null,null,null,null,null,"",null,{"$f":"IFERROR(VLOOKUP(M25,計算用!$A$8:$B$15,2,FALSE),\"\")","v":""},null,null,null,""]
[21,null,null,null,"","",null,null,null,null,null,null,"",null,{"$f":"IFERROR(VLOOKUP(M26,計算用!$A$8:$B$15,2,FALSE),\"\")","v":""},null,null,null,""]
[22,null,null,null,"","",null,null,null,null,null,null,"",null,{"$f":"IFERROR(VLOOKUP(M27,計算用!$A$8:$B$15,2,FALSE),\"\")","v":""},null,null,null,""]
[23,null,null,null,"","",null,null,null,null,null,null,"",null,{"$f":"IFERROR(VLOOKUP(M28,計算用!$A$8:$B$15,2,FALSE),\"\")","v":""},null,null,null,""]
[24,null,null,null,"","",null,null,null,null,null,null,"",null,{"$f":"IFERROR(VLOOKUP(M29,計算用!$A$8:$B$15,2,FALSE),\"\")","v":""},null,null,null,""]
[25,null,null,null,null,"",null,null,null,null,null,null,"",null,{"$f":"IFERROR(VLOOKUP(M30,計算用!$A$8:$B$15,2,FALSE),\"\")","v":""},null,null,null,""]
[26,null,null,null,{"$f":"B31&C31&D31","v":""},"",null,null,null,null,null,null,"",null,{"$f":"IFERROR(VLOOKUP(M31,計算用!$A$8:$B$15,2,FALSE),\"\")","v":""},null,null,null,""]
[27,null,null,null,"","",null,null,null,null,null,null,"",null,{"$f":"IFERROR(VLOOKUP(M32,計算用!$A$8:$B$15,2,FALSE),\"\")","v":""},null,null,null,""]
[28,null,null,null,"","",null,null,null,null,null,null,"",null,{"$f":"IFERROR(VLOOKUP(M33,計算用!$A$8:$B$15,2,FALSE),\"\")","v":""},null,null,null,""]
[29,null,null,null,"","",null,null,null,null,null,null,"",null,{"$f":"IFERROR(VLOOKUP(M34,計算用!$A$8:$B$15,2,FALSE),\"\")","v":""},null,null,null,""]
[30,null,null,null,"","",null,null,null,null,null,null,"",null,{"$f":"IFERROR(VLOOKUP(M35,計算用!$A$8:$B$15,2,FALSE),\"\")","v":""},null,null,null,""]
[31,null,null,null,"","",null,null,null,null,null,null,"",null,{"$f":"IFERROR(VLOOKUP(M36,計算用!$A$8:$B$15,2,FALSE),\"\")","v":""},null,null,null,""]
[32,null,null,null,"","",null,null,null,null,null,null,"",null,{"$f":"IFERROR(VLOOKUP(M37,計算用!$A$8:$B$15,2,FALSE),\"\")","v":""},null,null,null,""]
[33,null,null,null,"","",null,null,null,null,null,null,"",null,{"$f":"IFERROR(VLOOKUP(M38,計算用!$A$8:$B$15,2,FALSE),\"\")","v":""},null,null,null,""]
[34,null,null,null,"","",null,null,null,null,null,null,"",null,{"$f":"IFERROR(VLOOKUP(M39,計算用!$A$8:$B$15,2,FALSE),\"\")","v":""},null,null,null,""]
[35,null,null,null,"","",null,null,null,null,null,null,"",null,{"$f":"IFERROR(VLOOKUP(M40,計算用!$A$8:$B$15,2,FALSE),\"\")","v":""},null,null,null,""]
[36,null,null,null,"","",null,null,null,null,null,null,"",null,{"$f":"IFERROR(VLOOKUP(M41,計算用!$A$8:$B$15,2,FALSE),\"\")","v":""},null,null,null,""]
[37,null,null,null,"","",null,null,null,null,null,null,"",null,{"$f":"IFERROR(VLOOKUP(M42,計算用!$A$8:$B$15,2,FALSE),\"\")","v":""},null,null,null,""]
[38,null,null,null,"","",null,null,null,null,null,null,"",null,{"$f":"IFERROR(VLOOKUP(M43,計算用!$A$8:$B$15,2,FALSE),\"\")","v":""},null,null,null,""]
[39,null,null,null,"","",null,null,null,null,null,null,"",null,{"$f":"IFERROR(VLOOKUP(M44,計算用!$A$8:$B$15,2,FALSE),\"\")","v":""},null,null,null,""]
[40,null,null,null,"","",null,null,null,null,null,null,"",null,{"$f":"IFERROR(VLOOKUP(M45,計算用!$A$8:$B$15,2,FALSE),\"\")","v":""},null,null,null,""]
[41,null,null,null,"","",null,null,null,null,null,null,"",null,{"$f":"IFERROR(VLOOKUP(M46,計算用!$A$8:$B$15,2,FALSE),\"\")","v":""},null,null,null,""]
[42,null,null,null,"","",null,null,null,null,null,null,"",null,{"$f":"IFERROR(VLOOKUP(M47,計算用!$A$8:$B$15,2,FALSE),\"\")","v":""},null,null,null,""]
[43,null,null,null,"","",null,null,null,null,null,null,"",null,{"$f":"IFERROR(VLOOKUP(M48,計算用!$A$8:$B$15,2,FALSE),\"\")","v":""},null,null,null,""]
[44,null,null,null,"","",null,null,null,null,null,null,"",null,{"$f":"IFERROR(VLOOKUP(M49,計算用!$A$8:$B$15,2,FALSE),\"\")","v":""},null,null,null,""]
[45,null,null,null,"","",null,null,null,null,null,null,"",null,{"$f":"IFERROR(VLOOKUP(M50,計算用!$A$8:$B$15,2,FALSE),\"\")","v":""},null,null,null,""]
[46,null,null,null,"","",null,null,null,null,null,null,"",null,{"$f":"IFERROR(VLOOKUP(M51,計算用!$A$8:$B$15,2,FALSE),\"\")","v":""},null,null,null,""]
[47,null,null,null,"","",null,null,null,null,null,null,"",null,{"$f":"IFERROR(VLOOKUP(M52,計算用!$A$8:$B$15,2,FALSE),\"\")","v":""},null,null,null,""]
[48,null,null,null,"","",null,null,null,null,null,null,"",null,{"$f":"IFERROR(VLOOKUP(M53,計算用!$A$8:$B$15,2,FALSE),\"\")","v":""},null,null,null,""]
[49,null,null,null,"","",null,null,null,null,null,null,"",null,{"$f":"IFERROR(VLOOKUP(M54,計算用!$A$8:$B$15,2,FALSE),\"\")","v":""},null,null,null,""]
[50,null,null,null,"","",null,null,null,null,null,null,"",null,{"$f":"IFERROR(VLOOKUP(M55,計算用!$A$8:$B$15,2,FALSE),\"\")","v":""},null,null,null,""]
[51,null,null,null,"","",null,null,null,null,null,null,"",null,{"$f":"IFERROR(VLOOKUP(M56,計算用!$A$8:$B$15,2,FALSE),\"\")","v":""},null,null,null,""]
[52,null,null,null,"","",null,null,null,null,null,null,"",null,{"$f":"IFERROR(VLOOKUP(M57,計算用!$A$8:$B$15,2,FALSE),\"\")","v":""},null,null,null,""]
[53,null,null,null,"","",null,null,null,null,null,null,"",null,{"$f":"IFERROR(VLOOKUP(M58,計算用!$A$8:$B$15,2,FALSE),\"\")","v":""},null,null,null,""]
[54,null,null,null,"","",null,null,null,null,null,null,"",null,{"$f":"IFERROR(VLOOKUP(M59,計算用!$A$8:$B$15,2,FALSE),\"\")","v":""},null,null,null,""]
[55,null,null,null,"","",null,null,null,null,null,null,"",null,{"$f":"IFERROR(VLOOKUP(M60,計算用!$A$8:$B$15,2,FALSE),\"\")","v":""},null,null,null,""]
[56,null,null,null,"","",null,null,null,null,null,null,"",null,{"$f":"IFERROR(VLOOKUP(M61,計算用!$A$8:$B$15,2,FALSE),\"\")","v":""},null,null,null,""]
[57,null,null,null,"","",null,null,null,null,null,null,"",null,{"$f":"IFERROR(VLOOKUP(M62,計算用!$A$8:$B$15,2,FALSE),\"\")","v":""},null,null,null,""]
[58,null,null,null,"","",null,null,null,null,null,null,"",null,{"$f":"IFERROR(VLOOKUP(M63,計算用!$A$8:$B$15,2,FALSE),\"\")","v":""},null,null,null,""]
[59,null,null,null,"","",null,null,null,null,null,null,"",null,{"$f":"IFERROR(VLOOKUP(M64,計算用!$A$8:$B$15,2,FALSE),\"\")","v":""},null,null,null,""]
[60,null,null,null,"","",null,null,null,null,null,null,"",null,{"$f":"IFERROR(VLOOKUP(M65,計算用!$A$8:$B$15,2,FALSE),\"\")","v":""},null,null,null,""]
[61,null,null,null,"","",null,null,null,null,null,null,"",null,{"$f":"IFERROR(VLOOKUP(M66,計算用!$A$8:$B$15,2,FALSE),\"\")","v":""},null,null,null,""]
[62,null,null,null,"","",null,null,null,null,null,null,"",null,{"$f":"IFERROR(VLOOKUP(M67,計算用!$A$8:$B$15,2,FALSE),\"\")","v":""},null,null,null,""]
[63,null,null,null,"","",null,null,null,null,null,null,"",null,{"$f":"IFERROR(VLOOKUP(M68,計算用!$A$8:$B$15,2,FALSE),\"\")","v":""},null,null,null,""]
[64,null,null,null,"","",null,null,null,null,null,null,"",null,{"$f":"IFERROR(VLOOKUP(M69,計算用!$A$8:$B$15,2,FALSE),\"\")","v":""},null,null,null,""]
[65,null,null,null,"","",null,null,null,null,null,null,"",null,{"$f":"IFERROR(VLOOKUP(M70,計算用!$A$8:$B$15,2,FALSE),\"\")","v":""},null,null,null,""]
[66,null,null,null,"","",null,null,null,null,null,null,"",null,{"$f":"IFERROR(VLOOKUP(M71,計算用!$A$8:$B$15,2,FALSE),\"\")","v":""},null,null,null,""]
[67,null,null,null,"","",null,null,null,null,null,null,"",null,{"$f":"IFERROR(VLOOKUP(M72,計算用!$A$8:$B$15,2,FALSE),\"\")","v":""},null,null,null,""]
[68,null,null,null,"","",null,null,null,null,null,null,"",null,{"$f":"IFERROR(VLOOKUP(M73,計算用!$A$8:$B$15,2,FALSE),\"\")","v":""},null,null,null,""]
[69,null,null,null,"","",null,null,null,null,null,null,"",null,{"$f":"IFERROR(VLOOKUP(M74,計算用!$A$8:$B$15,2,FALSE),\"\")","v":""},null,null,null,""]
[70,null,null,null,"","",null,null,null,null,null,null,"",null,{"$f":"IFERROR(VLOOKUP(M75,計算用!$A$8:$B$15,2,FALSE),\"\")","v":""},null,null,null,""]
[71,null,null,null,"","",null,null,null,null,null,null,"",null,{"$f":"IFERROR(VLOOKUP(M76,計算用!$A$8:$B$15,2,FALSE),\"\")","v":""},null,null,null,""]
[72,null,null,null,"","",null,null,null,null,null,null,"",null,{"$f":"IFERROR(VLOOKUP(M77,計算用!$A$8:$B$15,2,FALSE),\"\")","v":""},null,null,null,""]
[73,null,null,null,"","",null,null,null,null,null,null,"",null,{"$f":"IFERROR(VLOOKUP(M78,計算用!$A$8:$B$15,2,FALSE),\"\")","v":""},null,null,null,""]
[74,null,null,null,"","",null,null,null,null,null,null,"",null,{"$f":"IFERROR(VLOOKUP(M79,計算用!$A$8:$B$15,2,FALSE),\"\")","v":""},null,null,null,""]
[75,null,null,null,"","",null,null,null,null,null,null,"",null,{"$f":"IFERROR(VLOOKUP(M80,計算用!$A$8:$B$15,2,FALSE),\"\")","v":""},null,null,null,""]
[76,null,null,null,"","",null,null,null,null,null,null,"",null,{"$f":"IFERROR(VLOOKUP(M81,計算用!$A$8:$B$15,2,FALSE),\"\")","v":""},null,null,null,""]
[77,null,null,null,"","",null,null,null,null,null,null,"",null,{"$f":"IFERROR(VLOOKUP(M82,計算用!$A$8:$B$15,2,FALSE),\"\")","v":""},null,null,null,""]
[78,null,null,null,"","",null,null,null,null,null,null,"",null,{"$f":"IFERROR(VLOOKUP(M83,計算用!$A$8:$B$15,2,FALSE),\"\")","v":""},null,null,null,""]
[79,null,null,null,"","",null,null,null,null,null,null,"",null,{"$f":"IFERROR(VLOOKUP(M84,計算用!$A$8:$B$15,2,FALSE),\"\")","v":""},null,null,null,""]
[80,null,null,null,"","",null,null,null,null,null,null,"",null,{"$f":"IFERROR(VLOOKUP(M85,計算用!$A$8:$B$15,2,FALSE),\"\")","v":""},null,null,null,""]

{"sheet":"計算用","index":6,"n_rows":67,"n_cols":8,"rows_kept":67,"cut":false,"hidden":true,"merged":[]}
[null,null,null,null,null,null,null,"※本シートは絶対に編集しないこと。"]
["施設区分"]
["陽性者(濃厚接触者)発生施設","通所系･施設系で1日以上勤務又は訪問系で陽性者等に1日以上対応","訪問系で陽性者等への対応はないが対象期間に10日以上勤務","対象期間の勤務が９日以下"]
["その他の施設","対象期間に10日以上勤務","対象期間の勤務が9日以下"]
[]
[]
["慰労金単価"]
[{"$f":"A3&B3","v":"陽性者(濃厚接触者)発生施設通所系･施設系で1日以上勤務又は訪問系で陽性者等に1日以上対応"},20]
[{"$f":"A3&C3","v":"陽性者(濃厚接触者)発生施設訪問系で陽性者等への対応はないが対象期間に10日以上勤務"},5]
[{"$f":"A3&D3","v":"陽性者(濃厚接触者)発生施設対象期間の勤務が９日以下"},0]
[{"$f":"A4&B4","v":"その他の施設対象期間に10日以上勤務"},5]
[{"$f":"A4&C4","v":"その他の施設対象期間の勤務が9日以下"},0]
[]
[]
[]
[]
["なし"]
["あり"]
[]
[]
["北海道"]
["青森県"]
["岩手県"]
["宮城県"]
["秋田県"]
["山形県"]
["福島県"]
["茨城県"]
["栃木県"]
["群馬県"]
["埼玉県"]
["千葉県"]
["東京都"]
["神奈川県"]
["新潟県"]
["富山県"]
["石川県"]
["福井県"]
["山梨県"]
["長野県"]
["岐阜県"]
["静岡県"]
["愛知県"]
["三重県"]
["滋賀県"]
["京都府"]
["大阪府"]
["兵庫県"]
["奈良県"]
["和歌山県"]
["鳥取県"]
["島根県"]
["岡山県"]
["広島県"]
["山口県"]
["徳島県"]
["香川県"]
["愛媛県"]
["高知県"]
["福岡県"]
["佐賀県"]
["長崎県"]
["熊本県"]
["大分県"]
["宮崎県"]
["鹿児島県"]
["沖縄県"]